BEGIN:VCALENDAR
VERSION:2.0
PRODID:-//wp-events-plugin.com//7.1.7//EN
BEGIN:VEVENT
UID:8490@powiat.poznan.pl
DTSTART:20241015T104000Z
DTEND:20241015T104000Z
DTSTAMP:20241009T084103Z
URL:https://powiat.poznan.pl/events/spotkanie-autorskie-z-markiem-michalak
 iem/
SUMMARY:Spotkanie autorskie z Markiem Michalakiem
DESCRIPTION:Spotkanie autorskie z Markiem Michalakiem\nWięcej informacji n
 a bibldop.pl\n\n
ATTACH;FMTTYPE=image/jpeg:https://powiat.poznan.pl/wp-content/uploads/2024
 /10/plakat-spotkanie-autorskie-marek-michalak-800x1120-1-429x600-1.jpg
CATEGORIES:Kultura i sztuka
LOCATION:Gminna Biblioteka Publiczna i Centrum Kultury w Dopiewie\, Filia w
  Dąbrówce\, ul. Malinowa 41\, Dąbrówka\, Poland
GEO:52.3930699;16.782691999999997
X-APPLE-STRUCTURED-LOCATION;VALUE=URI;X-ADDRESS=ul. Malinowa 41\, Dąbrówk
 a\, Poland;X-APPLE-RADIUS=100;X-TITLE=Gminna Biblioteka Publiczna i Centru
 m Kultury w Dopiewie\, Filia w Dąbrówce:geo:52.3930699,16.78269199999999
 7
END:VEVENT
END:VCALENDAR