BEGIN:VCALENDAR
VERSION:2.0
PRODID:-//wp-events-plugin.com//7.1.7//EN
BEGIN:VEVENT
UID:8830@powiat.poznan.pl
DTSTART:20250203T170000Z
DTEND:20250203T170000Z
DTSTAMP:20250131T134048Z
URL:https://powiat.poznan.pl/events/spotkanie-autorskie-z-michalem-kotersk
 im/
SUMMARY:Spotkanie autorskie z Michałem Koterskim
DESCRIPTION:„To już moje ostatnie życie” . Spotkanie autorskie z Mich
 ałem Koterskim\nWięcej informacji na palacjankowice.pl\n\n
ATTACH;FMTTYPE=image/jpeg:https://powiat.poznan.pl/wp-content/uploads/2025
 /01/img_9896-1920x1920_michal-koterski_palac-jankowice.jpeg
CATEGORIES:Kultura i sztuka
LOCATION:Pałac Jankowice\, ul. Ogrodowa 2\, Jankowice\, 62-080\, Poland
GEO:52.438941;16.617316999999957
X-APPLE-STRUCTURED-LOCATION;VALUE=URI;X-ADDRESS=ul. Ogrodowa 2\, Jankowice\
 , 62-080\, Poland;X-APPLE-RADIUS=100;X-TITLE=Pałac Jankowice:geo:52.43894
 1,16.617316999999957
END:VEVENT
END:VCALENDAR