BEGIN:VCALENDAR
VERSION:2.0
PRODID:-//wp-events-plugin.com//7.1.7//EN
BEGIN:VEVENT
UID:8510@powiat.poznan.pl
DTSTART:20241015T150000Z
DTEND:20241015T160000Z
DTSTAMP:20241011T131145Z
URL:https://powiat.poznan.pl/events/spotkanie-dyskusyjnego-klubu-ksiazki-d
 la-dzieci/
SUMMARY:Spotkanie Dyskusyjnego Klubu Książki dla Dzieci
DESCRIPTION:Spotkanie Dyskusyjnego Klubu Książki dla Dzieci\nWięcej info
 rmacji na buk.gmina.pl\n\n
ATTACH;FMTTYPE=image/jpeg:https://powiat.poznan.pl/wp-content/uploads/2024
 /10/spotkanie-dyskusyjne_461830185_1066912282109042_3372971558025309221_n.
 jpg
CATEGORIES:Dla dzieci
LOCATION:Szkoła Podstawowa w Dobieżynie\, ul. Powstańców Wielkopolskich
  47\, 64-320 Dobieżyn\, Poland
GEO:52.325138;16.538006
X-APPLE-STRUCTURED-LOCATION;VALUE=URI;X-ADDRESS=ul. Powstańców Wielkopols
 kich 47\, 64-320 Dobieżyn\, Poland;X-APPLE-RADIUS=100;X-TITLE=Szkoła Pod
 stawowa w Dobieżynie:geo:52.325138,16.538006
END:VEVENT
END:VCALENDAR