BEGIN:VCALENDAR
VERSION:2.0
PRODID:-//wp-events-plugin.com//7.1.7//EN
BEGIN:VEVENT
UID:8560@powiat.poznan.pl
DTSTART:20241026T180000Z
DTEND:20241026T220000Z
DTSTAMP:20241025T121226Z
URL:https://powiat.poznan.pl/events/spotkanie-treningowe-z-olimpijczykami-
 w-murowanej-goslinie/
SUMMARY:Spotkanie treningowe z olimpijczykami w Murowanej Goślinie
DESCRIPTION:Spotkanie treningowe z olimpijczykami\nWięcej informacji na mu
 rowana-goslina.pl\n\n\n\n&nbsp\;\n\n&nbsp\;
ATTACH;FMTTYPE=image/jpeg:https://powiat.poznan.pl/wp-content/uploads/2024
 /10/spotkanie-z-olimpijczykami-mg.jpg
CATEGORIES:Sport
LOCATION:Centrum Kultury i Sportu w Murowanej Goślinie\, ul. Mściszewska 
 10\, 62-095 Murowana Goślina\, Poland
GEO:52.575869;17.001637
X-APPLE-STRUCTURED-LOCATION;VALUE=URI;X-ADDRESS=ul. Mściszewska 10\, 62-09
 5 Murowana Goślina\, Poland;X-APPLE-RADIUS=100;X-TITLE=Centrum Kultury i 
 Sportu w Murowanej Goślinie:geo:52.575869,17.001637
END:VEVENT
END:VCALENDAR