BEGIN:VCALENDAR
VERSION:2.0
PRODID:-//wp-events-plugin.com//7.1.7//EN
BEGIN:VEVENT
UID:9222@powiat.poznan.pl
DTSTART:20250628T183000Z
DTEND:20250628T220000Z
DTSTAMP:20250625T092554Z
URL:https://powiat.poznan.pl/events/spotkanie-z-duchem-puszczy/
SUMMARY:Spotkanie z Duchem Puszczy
DESCRIPTION:28 czerwca 2025 r. o godz. 19.30 na boisku w Rakowni odbędzie 
 się Spotkanie z Duchem Puszczy.\nZapisy osobiście w Bibliotece Publiczne
 j lub pod nr. tel. 782 540 004\n\n
ATTACH;FMTTYPE=image/jpeg:https://powiat.poznan.pl/wp-content/uploads/2025
 /06/na-plakacie-w-tle-jezioro-i-las-ognisko-oraz-w-dwoch-okregach-zdjecia-
 prowadzacych.jpg
CATEGORIES:Edukacja,Warsztaty
LOCATION:Boisko Rakownia\, Rakownia\, Rakownia\, gmina Murowana Gośłina\,
  wielkopolskie\, Poland
GEO:52.558409;17.03448
X-APPLE-STRUCTURED-LOCATION;VALUE=URI;X-ADDRESS=Rakownia\, Rakownia\, gmina
  Murowana Gośłina\, wielkopolskie\, Poland;X-APPLE-RADIUS=100;X-TITLE=Bo
 isko Rakownia:geo:52.558409,17.03448
END:VEVENT
END:VCALENDAR