BEGIN:VCALENDAR
VERSION:2.0
PRODID:-//wp-events-plugin.com//7.1.7//EN
BEGIN:VEVENT
UID:9082@powiat.poznan.pl
DTSTART:20250614T160000Z
DTEND:20250614T180000Z
DTSTAMP:20250522T085955Z
URL:https://powiat.poznan.pl/events/spotkanie-z-j-kuciel-frydryszak/
SUMMARY:Spotkanie z J. Kuciel-Frydryszak
DESCRIPTION:Spotkanie autorskie z Joanną Kuciel-Frydryszak - w Bibliostacj
 i Pobiedziska. Jej książki poruszają. Jej bohaterki przywracają pamię
 ć. Jej pisarstwo – to mistrzostwo słowa i ogromna wrażliwość. Autor
 ka głośnych książek - literatury faktu i biografii: Chłopki\, Służ
 ące do wszystkiego\, Iłła\, Słonimski. Heretyk na ambonie. Porozmawiam
 y o jej pisarstwie\, wyborach tematów\, pracy z archiwami\, o tym\, jak o
 ddać głos tym\, którzy przez lata byli pomijani. To będzie inspirując
 y wieczór pełen uważnych pytań i pogłębionej rozmowy. Wejściówki w
  cenie: 10 zł. Rezerwacja miejsc w Bibliostacji: tel. 61 669 83 21 lub 51
 2 865 202. Liczba miejsc ograniczona.\n\n
ATTACH;FMTTYPE=image/jpeg:https://powiat.poznan.pl/wp-content/uploads/2025
 /05/499715003_1149294830568924_5096096009314323256_n.jpg
CATEGORIES:Kultura i sztuka
LOCATION:BIBLIOSTACJA w budynku Dworca Kolejowego w Pobiedziskach\, ul. Dwo
 rcowa 4\, 62-010 Pobiedziska\, Poland
GEO:52.479097;17.277737
X-APPLE-STRUCTURED-LOCATION;VALUE=URI;X-ADDRESS=ul. Dworcowa 4\, 62-010 Pob
 iedziska\, Poland;X-APPLE-RADIUS=100;X-TITLE=BIBLIOSTACJA w budynku Dworca
  Kolejowego w Pobiedziskach:geo:52.479097,17.277737
END:VEVENT
END:VCALENDAR