BEGIN:VCALENDAR
VERSION:2.0
PRODID:-//wp-events-plugin.com//7.1.7//EN
BEGIN:VEVENT
UID:9199@powiat.poznan.pl
DTSTART:20250724T190000Z
DTEND:20250724T203000Z
DTSTAMP:20250623T105742Z
URL:https://powiat.poznan.pl/events/spotkanie-z-kapitanem/
SUMMARY:Spotkanie z kapitanem
DESCRIPTION:Wieczór pełen morskich opowieści w Dopiewie!\nSpotkaj się z
  Kapitanem Jackiem Podgórskim – człowiekiem\, który przez 20 lat dowo
 dził luksusowymi jachtami na całym świecie!\n
ATTACH;FMTTYPE=image/jpeg:https://powiat.poznan.pl/wp-content/uploads/2025
 /06/d9.jpg
CATEGORIES:Edukacja,Rozrywka,Społeczne
LOCATION:Dopiewo\, Dopiewo\, Dopiewo\, Poland
GEO:52.3652665;16.702731900000003
X-APPLE-STRUCTURED-LOCATION;VALUE=URI;X-ADDRESS=Dopiewo\, Dopiewo\, Poland;
 X-APPLE-RADIUS=100;X-TITLE=Dopiewo:geo:52.3652665,16.702731900000003
END:VEVENT
END:VCALENDAR