BEGIN:VCALENDAR
VERSION:2.0
PRODID:-//wp-events-plugin.com//7.1.7//EN
BEGIN:VEVENT
UID:9252@powiat.poznan.pl
DTSTART:20250810T140000Z
DTEND:20250810T170000Z
DTSTAMP:20250724T085456Z
URL:https://powiat.poznan.pl/events/spotkanie-z-mateuszem-szamalkiem/
SUMMARY:Spotkanie z Mateuszem Szamałkiem
DESCRIPTION:Są podróże duże i małe\, ale są też wielkie wyprawy\, kt
 óre mogą odbywać się w bliskiej okolicy. Najważniejsze jest jednak\, 
 by poznawać\, zwiedzać i odkrywać: ludzi\, zabytki\, piękne krajobrazy
 . Jest jeszcze to małe coś… pasja kolekcjonera – zdobywcy! Taką nie
 samowitą kolekcję wrażeń zgromadził Mateusz Szamałek\, który od wie
 lu lat zwiedza Wielkopolskę. Nie byłoby w tym nic nadzwyczajnego\, gdyby
  nie środek lokomocji. Większe i mniejsze miejscowości Wielkopolski Pan
  Mateusz odwiedza wyłącznie na rowerze.\n\nRowerzysta-krajoznawca-kolekc
 joner odwiedził już 1853 miejscowości i choć to tylko nieco ponad 40 p
 rocent regionu\, to zdecydowanie ma o czym opowiadać. Relacji z takich wy
 praw uzbierało się już bardzo dużo\, a Pan Mateusz chętnie się nimi 
 dzieli. Ze swoim projektem wystartował w 2020 i od tego czasu na rowerze 
 pokonał ponad 30 tys. km. Zdarza mu się bowiem jechać nawet 100 kilomet
 rów\, żeby zobaczyć jedną wieś… Spotkanie z Mateuszem Szamałkiem 
 „Wielkopolskie wsie i miasteczka odwiedzane rowerem” odbędzie się w 
 ramach cyklu „Skrzynki pełen skarbów”. Zaplanowano je na 10 sierpnia
  o godz. 15.00. Wstęp wolny.\n\n
ATTACH;FMTTYPE=image/jpeg:https://powiat.poznan.pl/wp-content/uploads/2025
 /07/szamalek-1080-x-1080-px.jpg
CATEGORIES:Dla dzieci,Dla seniora,Rozrywka
LOCATION:Dwór Skrzynki\, Plac Parkowy 1\, Skrzynki\, gm. Stęszew\, 62-060
 \, Poland
GEO:52.342096;16.606405
X-APPLE-STRUCTURED-LOCATION;VALUE=URI;X-ADDRESS=Plac Parkowy 1\, Skrzynki\,
  gm. Stęszew\, 62-060\, Poland;X-APPLE-RADIUS=100;X-TITLE=Dwór Skrzynki:
 geo:52.342096,16.606405
END:VEVENT
END:VCALENDAR