BEGIN:VCALENDAR
VERSION:2.0
PRODID:-//wp-events-plugin.com//7.1.7//EN
BEGIN:VEVENT
UID:9053@powiat.poznan.pl
DTSTART:20250531T093000Z
DTEND:20250531T170000Z
DTSTAMP:20250522T073140Z
URL:https://powiat.poznan.pl/events/strzelanie-o-tytul-krola/
SUMMARY:Strzelanie o tytuł Króla
DESCRIPTION:Strzelanie Zielonoświątkowe o tytuł Króla A.D. 2025\n\n
ATTACH;FMTTYPE=image/jpeg:https://powiat.poznan.pl/wp-content/uploads/2025
 /05/plakat-wydarzenia-na-plakacie-tresc-oraz-grafika-tarczy-strzelniczej.j
 pg
CATEGORIES:Rozrywka,Sport
LOCATION:Strzelnica Bracka\, ul. Bracka\, 62-095 Murowana Goślina\, Poland
GEO:52.56478;17.008091
X-APPLE-STRUCTURED-LOCATION;VALUE=URI;X-ADDRESS=ul. Bracka\, 62-095 Murowan
 a Goślina\, Poland;X-APPLE-RADIUS=100;X-TITLE=Strzelnica Bracka:geo:52.56
 478,17.008091
END:VEVENT
END:VCALENDAR