BEGIN:VCALENDAR
VERSION:2.0
PRODID:-//wp-events-plugin.com//7.1.7//EN
BEGIN:VEVENT
UID:8904@powiat.poznan.pl
DTSTART:20250330T230000Z
DTEND:20250331T230000Z
DTSTAMP:20250320T115852Z
URL:https://powiat.poznan.pl/events/studencki-festiwal-podrozniczy/
SUMMARY:Studencki festiwal podróżniczy
DESCRIPTION:Studencki festiwal podróżniczy\nDni Turystyki to coroczne wyd
 arzenie organizowane przez studentów kierunku Turystyki i Rekreacji Uniwe
 rsytetu im. Adama Mickiewicza. W dniach 31 marca – 1 kwietnia odbędzie 
 się jego XXII edycja. – Festiwal przyciąga setki uczestników\, zarów
 no studentów\, jak i mieszkańców Poznania\, powiatu poznańskiego oraz 
 gości z całej Polski. Zapraszamy wszystkich miłośników podróży\, a 
 także wszystkich\, którzy chcą odkryć świat z nowej perspektywy – i
 nformują organizatorzy.\n\nWydarzenie odbędzie się na Wydziale Nauk Geo
 graficznych i Geologicznych UAM przy ul. Bogumiła Krygowskiego w Poznaniu
 . Wstęp jest bezpłatny. – Tegoroczna edycja wydarzenia to dwa dni peł
 ne inspiracji\, wypełnione spotkaniami z podróżnikami\, prelekcjami\, w
 arsztatami tematycznymi i atrakcjami. To wyjątkowa okazja\, by poznać ś
 wiat oczami pasjonatów\, którzy przemierzyli tysiące kilometrów i maj
 ą do opowiedzenia niezwykłe historie pełne przygód\, wyzwań i inspiru
 jących momentów. Zapraszamy do wspólnej podróży po świecie pełnym p
 rzygód! – zapewniają organizatorzy. Więcej informacji o programie ora
 z prelegentach można znaleźć na oficjalnej stronie wydarzenia.\n\n
ATTACH;FMTTYPE=image/jpeg:https://powiat.poznan.pl/wp-content/uploads/2025
 /03/484917660_1068542098638041_5591591247254596539_n.jpg
CATEGORIES:Turystyka i rekreacja
LOCATION:Uniwersytet Adama Mickiewicza Collegium Geographicum\, ul. B. Kryg
 owskiego 10\, Poznań\, Poland
GEO:52.46424;16.941834
X-APPLE-STRUCTURED-LOCATION;VALUE=URI;X-ADDRESS=ul. B. Krygowskiego 10\, Po
 znań\, Poland;X-APPLE-RADIUS=100;X-TITLE=Uniwersytet Adama Mickiewicza Co
 llegium Geographicum:geo:52.46424,16.941834
END:VEVENT
END:VCALENDAR