BEGIN:VCALENDAR
VERSION:2.0
PRODID:-//wp-events-plugin.com//7.1.7//EN
BEGIN:VEVENT
UID:4048@powiat.poznan.pl
DTSTART:20190922T100000Z
DTEND:20190922T170000Z
DTSTAMP:20190918T134747Z
URL:https://powiat.poznan.pl/events/sucholeska-dycha/
SUMMARY:Sucholeska Dycha
DESCRIPTION:VII Sucholeska Dziesiątka Fightera\n\n
ATTACH;FMTTYPE=image/jpeg:https://powiat.poznan.pl/wp-content/uploads/2019
 /09/69530349_2925359330870186_1321793494062202880_o.jpg
CATEGORIES:Sport
LOCATION:Sucholeska Dziesiątka Fightera\, ul. Szkolna\, Suchy Las\, 62-002
 \, Poland
GEO:52.4766726;16.86886930000003
X-APPLE-STRUCTURED-LOCATION;VALUE=URI;X-ADDRESS=ul. Szkolna\, Suchy Las\, 6
 2-002\, Poland;X-APPLE-RADIUS=100;X-TITLE=Sucholeska Dziesiątka Fightera:
 geo:52.4766726,16.86886930000003
END:VEVENT
END:VCALENDAR