BEGIN:VCALENDAR
VERSION:2.0
PRODID:-//wp-events-plugin.com//7.1.7//EN
BEGIN:VEVENT
UID:9687@powiat.poznan.pl
DTSTART;VALUE=DATE:20260501
DTEND;VALUE=DATE:20260502
DTSTAMP:20260420T112929Z
URL:https://powiat.poznan.pl/events/swarzedz-zaprasza-na-swoje-swieto/
SUMMARY:Swarzędz zaprasza na swoje święto
DESCRIPTION:Początek maja w Swarzędzu nierozerwalnie wiąże się z „J
 ózefinkami”. Święto miasta i swarzędzkich stolarzy przyciąga mieszk
 ańców i gości z całego regionu. To dzień pełen muzyki\, spotkań\, d
 obrej zabawy i licznych atrakcji. Na najmłodszych czekają bezpłatne dmu
 chańce\, a rodziny znajdą przestrzeń do wspólnego spędzenia czasu. Ni
 e sposób będzie się nudzić!\n\nTradycyjnym elementem wydarzenia jest S
 warzędzkie Spotkanie Józefów. Do udziału zaproszeni są wszyscy mieszk
 ańcy noszący imię Józef\, Józefa lub Józefina. To okazja do wspólne
 go świętowania imienin. Podczas spotkania wyłonieni zostaną Józefa i 
 Józef Roku\, a pamiątkowe medale trafią również do najstarszych i naj
 młodszych imienników patrona Swarzędza. Wszyscy uczestnicy otrzymają p
 amiątkowe upominki.\n\nNieodłączną częścią Józefinek jest Gra Miej
 ska „Mebloberek”. Wzbudza emocje i cieszy się sporym zainteresowaniem
 . To propozycja dla rodzin i grup przyjaciół chcących aktywnie spędzi
 ć czas i poznać miasto  z innej perspektywy. Uczestnicy wyruszają na t
 rasę pełną zagadek\, zadań i wyzwań inspirowanych historią i miejski
 mi tradycjami. Liczy się kooperacja\, spryt i zwinność. Dobra zabawa gw
 arantowana. Uczestnicy startują w dwóch kategoriach: Rodzinnej i Drużyn
 owej. Zapisać można się poprzez formularz zgłoszeniowy dostępny na st
 ronie www.jozefinki.swarzedz.pl. Znajduje się tu również regulamin Gry.
  Rejestracja trwa do 29 kwietnia lub do wyczerpania miejsc (liczba drużyn
  jest ograniczona\, więc kto pierwszy ten lepszy). Udział w Mebloberku j
 est bezpłatny\, a na najlepszych i na szczęściarzy czekają atrakcyjne 
 nagrody.\n\nFinałem dnia będzie festyn rodzinny. Jego program został pr
 zygotowany tak\, by każdy znalazł coś dla siebie. Przed publicznością
  wystąpią: sekcja folkloru Ośrodka Kultury „Mały Swarzędz” oraz Z
 espół Regionalny „Olszyna” prezentując lokalny dorobek artystyczny.
  Następnie scenę przejmie Don Wasyl i Cygańskie Gwiazdy – artyści\, 
 którzy od lat popularyzują muzykę romską w Polsce i za granicą\, nawi
 ązując do legendarnej grupy Roma. Ich koncerty to połączenie żywioło
 wych rytmów\, barwnej choreografii i znanych przebojów. Wieczór zakońc
 zy koncert zespołu Łobuzy – jednej z najpopularniejszych formacji disc
 o polo w Polsce. Grupa znana jest z takich hitów jak „Ona czuje we mnie
  piniądz” czy „Łobuz kocha najbardziej”. Ich występy znane są z 
 dynamicznego show i świetnego kontaktu z publicznością.\n\nJózefinki t
 o coś więcej niż wydarzenie – to święto\, które od lat buduje loka
 lną tożsamość i integruje mieszkańców. To dzień pełen radości i w
 iosennej energii. Do zobaczenia na Józefinkach!\n\n
ATTACH;FMTTYPE=image/jpeg:https://powiat.poznan.pl/wp-content/uploads/2026
 /04/zrzut-ekranu-2026-04-20-132345.png
CATEGORIES:Dla dzieci,Jarmark,Koncert,Rozrywka
LOCATION:Swarzędz scena za Jeziorem\, Swarzędz\, Swarzędz\, Poland
GEO:52.40994;17.078496
X-APPLE-STRUCTURED-LOCATION;VALUE=URI;X-ADDRESS=Swarzędz\, Swarzędz\, Pol
 and;X-APPLE-RADIUS=100;X-TITLE=Swarzędz scena za Jeziorem:geo:52.40994,17
 .078496
END:VEVENT
END:VCALENDAR