BEGIN:VCALENDAR
VERSION:2.0
PRODID:-//wp-events-plugin.com//7.1.7//EN
BEGIN:VEVENT
UID:8997@powiat.poznan.pl
DTSTART:20250331T230000Z
DTEND:20250529T230000Z
DTSTAMP:20250507T102957Z
URL:https://powiat.poznan.pl/events/swiat-zatrzymany/
SUMMARY:Świat zatrzymany
DESCRIPTION:W CK Przeźmierowo zmiana ekspozycji nie równa się tym razem 
 zmianie tematyki. Jest raczej jej kontynuacją\, a może nawet pogłębien
 iem. Poznawajmy dalej "Świat zatrzymany".\n\n"Świat zatrzymany"\, to pow
 stający na przestrzeni kilku miesięcy projekt grup malarskich prowadzony
 ch przez Magdalenę Łuczak. To martwa natura\, komponowana przez malując
 ych i uchwycona z ich indywidualną wrażliwością. To ich wizje\, eksper
 ymenty.\n\n„Mam ogromną nadzieję\, że udzieli się państwu radość 
 tworzenia\, jaka towarzyszyła naszej twórczości\, a prezentowane prace 
 dostarczą pozytywnych wrażeń estetycznych” - mówi instruktorka Magda
 lena Łuczak\, zapowiadając wystawę „Świat zatrzymany”. Przekonajci
 e się\, do końca maja.\n\nWięcej na goksezam.pl\n\n
ATTACH;FMTTYPE=image/jpeg:https://powiat.poznan.pl/wp-content/uploads/2025
 /05/qq-1.jpg
CATEGORIES:Kultura i sztuka,Rozrywka,wystawa
LOCATION:Centrum Kultury Przeźmierowo\, ul. Ogrodowa 13a\, Przeźmierowo\,
  Poland
GEO:52.43219800000001;16.776851899999997
X-APPLE-STRUCTURED-LOCATION;VALUE=URI;X-ADDRESS=ul. Ogrodowa 13a\, Przeźmi
 erowo\, Poland;X-APPLE-RADIUS=100;X-TITLE=Centrum Kultury Przeźmierowo:ge
 o:52.43219800000001,16.776851899999997
END:VEVENT
END:VCALENDAR