BEGIN:VCALENDAR
VERSION:2.0
PRODID:-//wp-events-plugin.com//7.1.7//EN
BEGIN:VEVENT
UID:8547@powiat.poznan.pl
DTSTART:20241021T100000Z
DTEND:20241031T100000Z
DTSTAMP:20241018T080052Z
URL:https://powiat.poznan.pl/events/swiatelko-dla-czerwca-w-konarzewie/
SUMMARY:Światełko dla Czerwca w Konarzewie
DESCRIPTION:Światełko dla Czerwca w Konarzewie\nMuzeum Powstania Poznańs
 kiego – Czerwiec 1956 od dziewięciu lat organizuje ogólnopolską akcj
 ę edukacyjną „Światełko dla Czerwca ’56”\, której celem jest ku
 ltywowanie pamięci o pierwszym w powojennej Polsce wolnościowym zrywie p
 rzeciwko komunistycznej władzy.\n\nXVII edycja Akcji „Światełko dla C
 zerwca ’56” potrwa od  21 do 31 października 2024 roku.\n\nUroczyst
 a inauguracja XVII edycji Akcji odbędzie się 21 października 2024 r.
  o godzinie 11.00 na cmentarzu parafialnym w Konarzewie (powiat poznań
 ski\, gmina Dopiewo)\, przy grobie jednej z trzech tramwajarek.\n\nStanis
 ława Sobańska-Przybylska w 1956 roku pracowała jako konduktorka tramwaj
 owa w poznańskim MPK. 28 czerwca 1956 roku\, kiedy tysiące poznaniaków 
 wyszło na ulice\, aby wziąć udział w proteście\, Stanisława Sobańsk
 a opuściła swój tramwaj na ulicy Dąbrowskiego i dołączyła do demons
 tracji. Razem z Heleną Przybyłek i Marią Kapturską niosła biało-czer
 woną flagę na czele tłumu zmierzającego na ulicę Kochanowskiego. Kobi
 ety znajdowały się przed budynkiem Wojewódzkiego Urzędu ds. Bezpiecze
 ństwa Publicznego\, gdy z jego okien padły strzały. Stanisława Sobańs
 ka została trafiona w nogę\, przewieziono ją do szpitala. Niedługo pó
 źniej została aresztowana\, była poddawana brutalnym przesłuchaniom. Z
 ostała zwolniona z aresztu w listopadzie 1956 roku. Przez wielokrotne pob
 icia\, jakich doświadczyła w trakcie śledztwa musiała przejść kilka 
 operacji i nigdy nie wróciła do zdrowia.\n\nZmarła 15.09.2012 r.\n\nInf
 ormacja: Muzeum Powstania Poznańskiego – Czerwiec 1956\n\n\n\n&nbsp\;
ATTACH;FMTTYPE=image/jpeg:https://powiat.poznan.pl/wp-content/uploads/2024
 /10/swiatelko-dla-czerwca_xv-edycja-akcji-swiatelko-dla-czerwca-56.png
CATEGORIES:Uroczystości
LOCATION:Cmentarz Parafialny w Konarzewie\, ul. Kośielna 2\, 62-070 Konarz
 ewo\, Poland
GEO:52.335883;16.715957
X-APPLE-STRUCTURED-LOCATION;VALUE=URI;X-ADDRESS=ul. Kośielna 2\, 62-070 Ko
 narzewo\, Poland;X-APPLE-RADIUS=100;X-TITLE=Cmentarz Parafialny w Konarzew
 ie:geo:52.335883,16.715957
END:VEVENT
END:VCALENDAR