BEGIN:VCALENDAR
VERSION:2.0
PRODID:-//wp-events-plugin.com//7.1.7//EN
BEGIN:VEVENT
UID:4055@powiat.poznan.pl
DTSTART:20190928T130000Z
DTEND:20190928T160000Z
DTSTAMP:20190919T111955Z
URL:https://powiat.poznan.pl/events/swieto-dyni/
SUMMARY:Święto Dyni
DESCRIPTION:&nbsp\;\nŚwięto Dyni - plenerowy festyn kreatywny przy Remizi
 e w Plewiskach\n\n
ATTACH;FMTTYPE=image/jpeg:https://powiat.poznan.pl/wp-content/uploads/2019
 /09/69708939_2035752996526856_7714808999413022720_n.jpg
CATEGORIES:Rozrywka
LOCATION:Dom Kultury "Remiza" w Plewiskach\, ul. Grunwaldzka 565\, Plewiska
 \, Poland
GEO:52.3653796;16.807644400000072
X-APPLE-STRUCTURED-LOCATION;VALUE=URI;X-ADDRESS=ul. Grunwaldzka 565\, Plewi
 ska\, Poland;X-APPLE-RADIUS=100;X-TITLE=Dom Kultury \"Remiza\" w Plewiskac
 h:geo:52.3653796,16.807644400000072
END:VEVENT
END:VCALENDAR