BEGIN:VCALENDAR
VERSION:2.0
PRODID:-//wp-events-plugin.com//7.1.7//EN
BEGIN:VEVENT
UID:9269@powiat.poznan.pl
DTSTART:20250813T230000Z
DTEND:20250816T230000Z
DTSTAMP:20250806T113557Z
URL:https://powiat.poznan.pl/events/swieto-dziedzictwa-kulinarnego/
SUMMARY:Święto dziedzictwa kulinarnego
DESCRIPTION:15 sierpnia 2025 roku w Poznaniu\, podczas Ogólnopolskiego Fe
 stiwalu Dobrego Smaku\, ponownie odbędzie się Konkurs Polska Nalewka. T
 o wyjątkowe wydarzenie\, z dumą kontynuujące swoją tradycję nieprzer
 wanie od 19 lat\, jest nie tylko konkursem\, ale prawdziwym świętem pols
 kiego dziedzictwa kulinarnego.\n\nNalewki to integralna część polskiej 
 kultury i historii\, symbol gościnności\, domowego ciepła i mistrzostwa
  w wykorzystywaniu darów natury. Od wieków przygotowywane w szlacheckich
  dworach\, chłopskich chatach i mieszczańskich kamienicach\, nalewki by
 ły i są symbolem dbałości o jakość\, cierpliwości i głębokiego sz
 acunku dla tradycji. Każda butelka to często małe dzieło sztuki\, w kt
 órym „zamyka się słońce w butelce”\, jak mawiał wieloletni przewo
 dniczący naszej kapituły\, niezapomniany Piotr Bikont. To właśnie dzi
 ęki Waszej pasji i zaangażowaniu\, ta piękna tradycja nie tylko przetrw
 ała\, ale w ostatnich latach przeżywa prawdziwy renesans\, rozkwitając 
 w domowych spiżarniach całej Polski.\n\nW tym roku\, poza tradycyjnym G
 RAND PRIX oraz złotymi\, srebrnymi i brązowymi medalami\, jury przyzna 
 także prestiżowe nagrody specjalne im. Hanny Szymanderskiej i Piotra Bi
 konta\, uhonorowując ich nieoceniony wkład w promowanie polskiej kuchni 
 i nalewek. Przyznana zostanie też nagroda specjalna za najlepszą  nale
 wkę z terenu powiatu  poznańskiego.\n\nNalewki można przysłać lub p
 rzyjechać do Poznania osobiście. Ta druga opcja to doskonała okazja\, b
 y spotkać się i wymienić doświadczeniami z innymi uczestnikami konkurs
 u podczas wspólnej degustacji wszystkich zgłoszonych do konkursu trunkó
 w\, na którą tradycyjnie już zapraszamy uczestników zaraz po wieczorny
 m ogłoszeniu wyników. To niezapomniane chwile pełne inspiracji i wymian
 y pasji!\n\nOrganizatorzy konkursu\, którym jest Fundacja Instytutu Skrzy
 nki zaprasza do udziału i dołączenia do grona twórców polskiej nalewk
 owej historii! Regulamin konkursu oraz formularz zgłoszeniowy dostępne s
 ą na stronie https://instytutskrzynki.pl/projekty-i-konkursy/ oraz https:
 //ofds.pl/konkurs-polska-nalewka/.\n\n
ATTACH;FMTTYPE=image/jpeg:https://powiat.poznan.pl/wp-content/uploads/2025
 /08/konkurs-polska-nalewka-roku-2025-fb-i-strona.jpg
CATEGORIES:Jarmark,Kultura i sztuka,Rozrywka,Społeczne
LOCATION:Plac Wolności Poznań\, Plac Wolności\, Poznań\, Poland
GEO:52.4084559;16.926896199999987
X-APPLE-STRUCTURED-LOCATION;VALUE=URI;X-ADDRESS=Plac Wolności\, Poznań\, 
 Poland;X-APPLE-RADIUS=100;X-TITLE=Plac Wolności Poznań:geo:52.4084559,16
 .926896199999987
END:VEVENT
END:VCALENDAR