BEGIN:VCALENDAR
VERSION:2.0
PRODID:-//wp-events-plugin.com//7.1.7//EN
BEGIN:VEVENT
UID:8395@powiat.poznan.pl
DTSTART:20241006T100000Z
DTEND:20241006T100000Z
DTSTAMP:20240923T082917Z
URL:https://powiat.poznan.pl/events/swieto-latawca-7/
SUMMARY:Święto Latawca
DESCRIPTION:8. Święto Latawca\n6 października Stowarzyszenie Vena Pobied
 ziska zaprasza na Święto Latawca. Dzień wcześniej o godzinie 11:00 w O
 środku Kultury w Pobiedziskach zorganizowane zostaną warsztaty budowy la
 tawców. Materiały potrzebne do ich konstrukcji zabezpieczy organizator. 
 Mile widziane będą dzieci z opiekunami\, ale również młodzież i doro
 śli. Na zwycięzców i uczestników będą czekać liczne nagrody.\nJak z
 awsze zawodom towarzyszyć będzie pokaz modeli latających oraz prezentac
 ja w powietrzu przygotowana przez Aeroklub Poznański.\n
ATTACH;FMTTYPE=image/jpeg:https://powiat.poznan.pl/wp-content/uploads/2024
 /09/mazurek_latawce_2024-scaled.jpg
CATEGORIES:Warsztaty
LOCATION:Letnisko Leśne - polana przy Kapliczce\, Polana przy Kapliczce\, 
 62-010 Pobiedziska\, Poland
GEO:52.493984;17.294257
X-APPLE-STRUCTURED-LOCATION;VALUE=URI;X-ADDRESS=Polana przy Kapliczce\, 62-
 010 Pobiedziska\, Poland;X-APPLE-RADIUS=100;X-TITLE=Letnisko Leśne - pola
 na przy Kapliczce:geo:52.493984,17.294257
END:VEVENT
END:VCALENDAR