BEGIN:VCALENDAR
VERSION:2.0
PRODID:-//wp-events-plugin.com//7.1.7//EN
BEGIN:VEVENT
UID:9106@powiat.poznan.pl
DTSTART:20250620T230000Z
DTEND:20250621T230000Z
DTSTAMP:20250522T112549Z
URL:https://powiat.poznan.pl/events/swieto-steszewa-4/
SUMMARY:Święto Stęszewa
DESCRIPTION:Szykujcie się na dwa dni niesamowitych emocji\, koncertów i w
 spólnej zabawy! Jak co roku\, zapraszamy wszystkich mieszkańców i gośc
 i na jedno z największych wydarzeń w naszej gminie! SOBOTA – 21 czerw
 ca: Maciej Maleńczuk – charyzmatyczny artysta z niepowtarzalnym stylem\
 , Tribbs – czołowy polski producent i DJ\, gwarancja energetycznego sho
 wNIEDZIELA – 22 czerwca: Julia Żugaj – gwiazda młodego pokolenia\, k
 tórej utwory biją rekordy popularności\, Wilki – legendarny zespół 
 z hitami\, które zna cała PolskaA do tego mnóstwo atrakcji towarzysząc
 ych: bezpieczna gmina\, strefa gastronomiczna\, animacje dla dzieci\, wyda
 rzenia sportowe i kulturalne\, wesołe miasteczko i wiele więcej!Nie moż
 e Was zabraknąć! Zabierzcie rodzinę\, przyjaciół i dołączcie do wsp
 ólnego świętowania!Obserwuj wydarzenie\, by być na bieżąco z program
 em i dodatkowymi atrakcjami!\n\n\n\n&nbsp\;
ATTACH;FMTTYPE=image/jpeg:https://powiat.poznan.pl/wp-content/uploads/2025
 /05/s2.jpg
CATEGORIES:Kultura i sztuka,Piknik,Rozrywka,Społeczne
LOCATION:Stęszew\, Stęszew\, Stęszew\, Poland
GEO:52.2727466;16.66168449999998
X-APPLE-STRUCTURED-LOCATION;VALUE=URI;X-ADDRESS=Stęszew\, Stęszew\, Polan
 d;X-APPLE-RADIUS=100;X-TITLE=Stęszew:geo:52.2727466,16.66168449999998
END:VEVENT
END:VCALENDAR