BEGIN:VCALENDAR
VERSION:2.0
PRODID:-//wp-events-plugin.com//7.1.7//EN
BEGIN:VEVENT
UID:9240@powiat.poznan.pl
DTSTART:20250719T090000Z
DTEND:20250719T130000Z
DTSTAMP:20250710T083546Z
URL:https://powiat.poznan.pl/events/szachowe-mistrzostwa-powiatu/
SUMMARY:Szachowe mistrzostwa powiatu
DESCRIPTION:Stowarzyszenie Klub Sportowy Korona Zakrzewo wraz z Instytutem 
 Skrzynki zapraszają na II Otwarte Mistrzostwa Powiatu Poznańskiego w Sza
 chach pod honorowym patronatem starosty poznańskiego\, Jana Grabkowskiego
 .Zawody odbędą się 19 lipca w Dworze Skrzynki. Zawodnicy rywalizować b
 ędą w kilku kategoriach wiekowych oraz open. W turnieju mogą uczestnicz
 yć wszyscy chętni\, bez względu na posiadane umiejętności. Ilość mi
 ejsc ograniczona do 70 osób – decyduje kolejność zgłoszeń. Więcej 
 informacji w załącznikach.\n\n
ATTACH;FMTTYPE=image/jpeg:https://powiat.poznan.pl/wp-content/uploads/2025
 /07/szachy-grafika-instagram-poprawiona.jpg
CATEGORIES:Dla dzieci,Rozrywka,Sport
LOCATION:Dwór w Skrzynkach\, Plac Parkowy 1\, Skrzynki\, Poland
GEO:52.342096;16.606405
X-APPLE-STRUCTURED-LOCATION;VALUE=URI;X-ADDRESS=Plac Parkowy 1\, Skrzynki\,
  Poland;X-APPLE-RADIUS=100;X-TITLE=Dwór w Skrzynkach:geo:52.342096,16.606
 405
END:VEVENT
END:VCALENDAR