BEGIN:VCALENDAR
VERSION:2.0
PRODID:-//wp-events-plugin.com//7.1.7//EN
BEGIN:VEVENT
UID:8404@powiat.poznan.pl
DTSTART:20241013T113000Z
DTEND:20241013T113000Z
DTSTAMP:20240923T104626Z
URL:https://powiat.poznan.pl/events/szalaputki-dla-najmlodszych/
SUMMARY:Szałaputki dla najmłodszych
DESCRIPTION:“SZAŁAPUTKI” dla najmłodszych\nHumor\, misja\, przyjaźń
  i wartka akcja. Zadzieje się na Małej Scenie Sezamu w spektaklu dedykow
 anym dzieciom 3+.\n\nTeatRyle\, znany naszej dziecięcej publiczności m. 
 in. z “Kubusiowego Grania” (wówczas we współpracy z Bajkowozem Teat
 ru Animacji)\, przyjedzie do DK w Tarnowie Podgórnym ze spektaklem “SZA
 ŁAPUTKI”. W nim na dzieci czeka przygoda z iście zwariowanym trio.\n\n
 Rzecz opowiada o losach pewnych kurczaków. Niepomnych ostrzeżeń mamy\, 
 nie do końca rozważnych\, które narażają się na niebezpieczeństwo. 
 Jedno z nich zostaje porwane przez lisa! Co robić? Drugie\, łącząc si
 ły z płochliwą Myszką\, postanawia wyruszyć mu na ratunek. Jaką dru
 żynę stworzą? Czy uda im się przezwyciężyć strach? Czy ich misja si
 ę powiedzie? Przekonamy się\, na Małej Scenie\, już w październiku!\n
 \n„SZAŁAPUTKI”\n\nscenariusz: Janusz Ryl-Krystianowski\nscenografia: 
 Marcin Ryl-Krystianowski\nlalki: Olga Ryl-Krystianowska\nreżyseria i wyko
 nanie: Mariola i Marcin Ryl-Krystianowscy\n\nMała Scena Sezamu: „SZAŁA
 PUTKI” – TeatRyle. 13.10 (niedziela)\, g. 12:30\, DK w Tarnowie Podgó
 rnym. Dla dzieci 3+. Bilety: 20 zł do kupienia na www.biletyna.pl\, oraz 
 w kasach: Biuro GOK SEZAM (ul. Poznańska 96\, Tarnowo Podgórne) czynne o
 d pon. do pt. w godz. 8-15\; DK w Tarnowie Podgórnym od pon. do pt. w god
 z. 15-19\; CK Przeźmierowo od pon. do pt. w godz. 16-19.  \n\nInformacja
 : Organizator.\n\n
ATTACH;FMTTYPE=image/jpeg:https://powiat.poznan.pl/wp-content/uploads/2024
 /09/szalaputki.maly-jpg-1.jpg
CATEGORIES:Dla dzieci,Kultura i sztuka
LOCATION:Dom Kultury w Tarnowie Podgórnym -Gminny Ośrodek Kultury "SEZAM"
 \, ul. Ogrodowa 14\, Tarnowo Podgórne\,  62-080\, Poland
GEO:52.4346118;16.688943600000016
X-APPLE-STRUCTURED-LOCATION;VALUE=URI;X-ADDRESS=ul. Ogrodowa 14\, Tarnowo P
 odgórne\,  62-080\, Poland;X-APPLE-RADIUS=100;X-TITLE=Dom Kultury w Tarno
 wie Podgórnym -Gminny Ośrodek Kultury \"SEZAM\":geo:52.4346118,16.688943
 600000016
END:VEVENT
END:VCALENDAR