BEGIN:VCALENDAR
VERSION:2.0
PRODID:-//wp-events-plugin.com//7.1.7//EN
BEGIN:VEVENT
UID:9311@powiat.poznan.pl
DTSTART:20250823T120000Z
DTEND:20250823T210000Z
DTSTAMP:20250821T080210Z
URL:https://powiat.poznan.pl/events/szeroko-na-waskiej-w-mosinie/
SUMMARY:Szeroko na Wąskiej w Mosinie
DESCRIPTION:23 sierpnia\, w godz. 13.00-16.00 w Mosinie odbędzie się kole
 jna edycja plenerowego wydarzenia pod nazwą „Szeroko na Wąskiej”. To
  święto lokalnych pasjonatów\, twórców\, kolekcjonerów i hobbystów.
  W tym roku tematem przewodnim będzie świat teatru. Tegoroczna odsłona 
 imprezy odbędzie się w malowniczym otoczeniu Ptasiego Parku\, u zbiegu u
 lic Kolejowej i Dworcowej.\n\nNa odwiedzających czekać będą dziesiątk
 i stoisk z malarstwem\, rękodziełem\, unikatowymi kolekcjami i artystycz
 nymi formami wyrazu. – Spotkacie tam ludzi z pasją\, będziecie mogli p
 orozmawiać o ich twórczości\, zainspirować się lub nabyć wyjątkowy 
 przedmiot z duszą. „Szeroko na Wąskiej” to nie tylko prezentacja dor
 obku artystów i hobbystów\, ale też miejsce integracji\, wspólnych roz
 mów i odkrywania bogactwa lokalnej kreatywności. A jest co odkrywać! 
 – można przeczytać na stronie gminy Mosina.\n\n
ATTACH;FMTTYPE=image/jpeg:https://powiat.poznan.pl/wp-content/uploads/2025
 /08/swiat-teatru-2.png
CATEGORIES:Dla dzieci,Dla seniora,Piknik,Rozrywka,Społeczne
LOCATION:Ptasi Park Mosina\, ul. Dworcowa\, Mosina\, wielkopolskie\, Poland
GEO:52.241414;16.852059
X-APPLE-STRUCTURED-LOCATION;VALUE=URI;X-ADDRESS=ul. Dworcowa\, Mosina\, wie
 lkopolskie\, Poland;X-APPLE-RADIUS=100;X-TITLE=Ptasi Park Mosina:geo:52.24
 1414,16.852059
END:VEVENT
END:VCALENDAR