BEGIN:VCALENDAR
VERSION:2.0
PRODID:-//wp-events-plugin.com//7.1.7//EN
BEGIN:VEVENT
UID:8389@powiat.poznan.pl
DTSTART:20240921T110000Z
DTEND:20240921T110000Z
DTSTAMP:20240920T125713Z
URL:https://powiat.poznan.pl/events/szlakiem-kobiet-gra-miejska/
SUMMARY:Szlakiem Kobiet - gra miejska
DESCRIPTION:Szlakiem Kobiet - gra miejska\nWięcej informacji na puszczykow
 o.pl\n\n
ATTACH;FMTTYPE=image/jpeg:https://powiat.poznan.pl/wp-content/uploads/2024
 /09/szlakiem_kobiet_-_gra_miejska.jpg
CATEGORIES:Edukacja
LOCATION:Muzeum – Pracownia Literacka Arkadego Fiedlera w Puszczykowie\, 
 Juliusza Słowackiego 1\, Puszczykowo\, 62-040\, Poland
GEO:52.2755291;16.867521500000066
X-APPLE-STRUCTURED-LOCATION;VALUE=URI;X-ADDRESS=Juliusza Słowackiego 1\, P
 uszczykowo\, 62-040\, Poland;X-APPLE-RADIUS=100;X-TITLE=Muzeum – Pracown
 ia Literacka Arkadego Fiedlera w Puszczykowie:geo:52.2755291,16.8675215000
 00066
END:VEVENT
END:VCALENDAR