BEGIN:VCALENDAR
VERSION:2.0
PRODID:-//wp-events-plugin.com//7.1.7//EN
BEGIN:VEVENT
UID:8854@powiat.poznan.pl
DTSTART:20250205T230000Z
DTEND:20250227T230000Z
DTSTAMP:20250207T142825Z
URL:https://powiat.poznan.pl/events/sztuka-w-bibliotece-wystawa-obrzedy-lu
 dowe/
SUMMARY:SZTUKA W BIBLIOTECE – wystawa Obrzędy ludowe
DESCRIPTION:SZTUKA W BIBLIOTECE – wystawa Obrzędy ludowe\nWięcej infor
 macji na bppob.pl\n\n
ATTACH;FMTTYPE=image/jpeg:https://powiat.poznan.pl/wp-content/uploads/2025
 /02/pobioedziska_baner-fb-wernisaz-naskret.jpg
CATEGORIES:Kultura i sztuka
LOCATION:BIBLIOSTACJA w budynku Dworca Kolejowego w Pobiedziskach\, ul. Dwo
 rcowa 4\, 62-010 Pobiedziska\, Poland
GEO:52.479097;17.277737
X-APPLE-STRUCTURED-LOCATION;VALUE=URI;X-ADDRESS=ul. Dworcowa 4\, 62-010 Pob
 iedziska\, Poland;X-APPLE-RADIUS=100;X-TITLE=BIBLIOSTACJA w budynku Dworca
  Kolejowego w Pobiedziskach:geo:52.479097,17.277737
END:VEVENT
END:VCALENDAR