BEGIN:VCALENDAR
VERSION:2.0
PRODID:-//wp-events-plugin.com//7.1.7//EN
BEGIN:VEVENT
UID:9590@powiat.poznan.pl
DTSTART:20260216T080000Z
DTEND:20260301T140000Z
DTSTAMP:20260204T080050Z
URL:https://powiat.poznan.pl/events/tajemnice-zimowego-lasu-w-uzarzewie/
SUMMARY:Tajemnice zimowego lasu w Muzeum w Uzarzewie
DESCRIPTION:Muzeum Przyrodniczo - Łowieckie w Uzarzewie (gmina Swarzędz) 
 serdecznie zaprasza na zimowe warsztaty edukacyjno - plastyczne z cyklu Fe
 rie w Muzeum:\n\n„TAJEMNICE ZIMOWEGO LASU”\n\nMuzeum mieści się na t
 erenie pięknego parku\, który o tej porze roku pogrążony jest w głęb
 okim śnie. Mieszczący się w nim kompleks wielu gatunków drzew przypomi
 na nam las\, w którym zimą można poznać wiele jego tajemnic. Podczas s
 potkania uczestnicy dowiedzą się\, kto odwiedza zimą paśnik\, do kogo 
 należą pozostawione na śniegu ślady\, co możemy z nich odczytać i ja
 k bronią się rośliny przed trudnymi warunkami atmosferycznymi. Na zako
 ńczenie przygotujemy smakołyki dla naszych leśnych przyjaciół\, któr
 e dzieci zabiorą ze sobą i będą mogły zawiesić w wybranym przez sieb
 ie miejscu (las\, park\, ogród).\n\nNaszą ofertę kierujemy do grup zorg
 anizowanych dzieci przedszkolnych i szkolnych klas I-III (uczestnicy pół
 kolonii). Terminy warsztatów: 16.02-1.03.2026\, godzina 9.00\,11.00 lub 1
 3.00. Czas trwania warsztatów: ok. 2 godziny. Koszt udziału w warsztatac
 h: 30 zł bilet wstępu\, 90 zł usługa przewodnicka po muzeum. Zgłoszen
 ia przyjmujemy pod numerem telefonu: 503173980 lub adres e-mail: k.chojnic
 ka@muzeum-szreniawa.pl\n\nMUZEUM PRZYRODNICZO-ŁOWIECKIE W UZARZEWIE\n\nul
 . Akacjowa 12\, 62-006 Kobylnica (gmina Swarzędz)\n\nStrona internetowa: 
 https://muzeum-szreniawa.pl/muzeum-w-uzarzewie/\n\n
ATTACH;FMTTYPE=image/jpeg:https://powiat.poznan.pl/wp-content/uploads/2026
 /02/uz.jpg
CATEGORIES:Dla dzieci,Edukacja,Rozrywka,Społeczne,Turystyka i rekreacja
LOCATION:Uzarzewo\, Muzeum w Uzarzewie\, Uzarzewo\, wielkopolskie\, Poland
GEO:52.454135;17.123248
X-APPLE-STRUCTURED-LOCATION;VALUE=URI;X-ADDRESS=Muzeum w Uzarzewie\, Uzarze
 wo\, wielkopolskie\, Poland;X-APPLE-RADIUS=100;X-TITLE=Uzarzewo:geo:52.454
 135,17.123248
END:VEVENT
END:VCALENDAR