BEGIN:VCALENDAR
VERSION:2.0
PRODID:-//wp-events-plugin.com//7.1.7//EN
BEGIN:VEVENT
UID:3394@powiat.poznan.pl
DTSTART:20190415T070000Z
DTEND:20190602T190000Z
DTSTAMP:20190408T130913Z
URL:https://powiat.poznan.pl/events/tape-art/
SUMMARY:TAPE ART
DESCRIPTION:TAPE ART - wystawa obrazów z taśmy
ATTACH;FMTTYPE=image/jpeg:https://powiat.poznan.pl/wp-content/uploads/2019
 /04/tape-art.jpg
CATEGORIES:Kultura i sztuka
LOCATION:Ośrodek Kultury Murowana Goślina\, ul. Mściszewska 10\, Murowan
 a Goślina\, Poland
GEO:52.5758708;17.001751199999944
X-APPLE-STRUCTURED-LOCATION;VALUE=URI;X-ADDRESS=ul. Mściszewska 10\, Murow
 ana Goślina\, Poland;X-APPLE-RADIUS=100;X-TITLE=Ośrodek Kultury Murowana
  Goślina:geo:52.5758708,17.001751199999944
END:VEVENT
END:VCALENDAR