BEGIN:VCALENDAR
VERSION:2.0
PRODID:-//wp-events-plugin.com//7.1.7//EN
BEGIN:VEVENT
UID:9262@powiat.poznan.pl
DTSTART:20250814T193000Z
DTEND:20250814T213000Z
DTSTAMP:20250731T124138Z
URL:https://powiat.poznan.pl/events/tomasz-lipnicki-w-mosinie/
SUMMARY:Tomasz Lipnicki w Mosinie
DESCRIPTION:Mosiński Ośrodek Kultury zaprasza na plenerowy koncert Tomasz
 a „Lipy” Lipnickiego. 14 sierpnia o godz. 20:30 w Parku Ptasim zagra u
 rodzony 26 sierpnia 1969 roku w Gdańsku artysta. Muzykę ma we krwi – p
 o raz pierwszy chwycił za gitarę jako dwunastolatek. Na przełomie lat 8
 0. i 90. związany z She i wypożyczony na wokal do Skawalkera. W 1992 rok
 u założył legendarne już Illusion. A osiem lat później wystartował 
 z solowym projektem Lipali\, który z czasem przekształcił się w zespó
 ł. Trzykrotny laureat Fryderyków. Ma na koncie 19 albumów\, z czego 15 
 jest studyjnych.\n\nBuntownik z charyzmą. Czasem trudno do niego dotrzeć
 \, ale racjonalne argumenty przyjmuje zawsze. Jego twarde rockowe serce mi
 ęknie na widok bezdomnych zwierząt\, którym od lat pomaga. Nie zapomina
  też o ludziach – chętnie angażuje się w liczne projekty charytatywn
 e. Zawsze stawia na szczerość\, przez co często wali prawdę prosto w o
 czy. Wstęp wolny.\n\n
ATTACH;FMTTYPE=image/jpeg:https://powiat.poznan.pl/wp-content/uploads/2025
 /07/tomasz-lipa-lipnicki.png
CATEGORIES:Kultura i sztuka,Rozrywka
LOCATION:Park Ptasi\, ul. Dworcowa\, 62-050 Mosina\, Poland
GEO:52.242475;16.850894
X-APPLE-STRUCTURED-LOCATION;VALUE=URI;X-ADDRESS=ul. Dworcowa\, 62-050 Mosin
 a\, Poland;X-APPLE-RADIUS=100;X-TITLE=Park Ptasi:geo:52.242475,16.850894
END:VEVENT
END:VCALENDAR