BEGIN:VCALENDAR
VERSION:2.0
PRODID:-//wp-events-plugin.com//7.1.7//EN
BEGIN:VEVENT
UID:8466@powiat.poznan.pl
DTSTART:20241025T170000Z
DTEND:20241025T170000Z
DTSTAMP:20241003T092827Z
URL:https://powiat.poznan.pl/events/tomasz-owsiany-spotkanie-z-podroznikie
 m/
SUMMARY:Tomasz Owsiany – spotkanie z podróżnikiem
DESCRIPTION:Tomasz Owsiany – spotkanie z podróżnikiem\nWięcej informac
 ji na osrodekkultury.pl\n\n
ATTACH;FMTTYPE=image/jpeg:https://powiat.poznan.pl/wp-content/uploads/2024
 /10/tomasz-owsiany_suchy-las.png
CATEGORIES:Turystyka i rekreacja
LOCATION:Centrum Kultury i Biblioteka Publiczna Gminy Suchy Las\, ul. Szkol
 na 16\, Suchy Las\, 62-002\, Poland
GEO:52.562464;16.798811900000032
X-APPLE-STRUCTURED-LOCATION;VALUE=URI;X-ADDRESS=ul. Szkolna 16\, Suchy Las\
 , 62-002\, Poland;X-APPLE-RADIUS=100;X-TITLE=Centrum Kultury i Biblioteka 
 Publiczna Gminy Suchy Las:geo:52.562464,16.798811900000032
END:VEVENT
END:VCALENDAR