BEGIN:VCALENDAR
VERSION:2.0
PRODID:-//wp-events-plugin.com//7.1.7//EN
BEGIN:VEVENT
UID:8246@powiat.poznan.pl
DTSTART;VALUE=DATE:20241004
DTEND;VALUE=DATE:20241007
DTSTAMP:20240805T145830Z
URL:https://powiat.poznan.pl/events/tour-salon-2024/
SUMMARY:Tour Salon 2024
DESCRIPTION:Tour Salon 2024\nWięcej informacji na tour-salon\n\n
ATTACH;FMTTYPE=image/jpeg:https://powiat.poznan.pl/wp-content/uploads/2022
 /10/tour_salon_1400x500.jpg
CATEGORIES:Turystyka i rekreacja
LOCATION:MTP Poznań\, MTP Poznań\, Poznań\, Poland
GEO:52.406762;16.90936690000001
X-APPLE-STRUCTURED-LOCATION;VALUE=URI;X-ADDRESS=MTP Poznań\, Poznań\, Pol
 and;X-APPLE-RADIUS=100;X-TITLE=MTP Poznań:geo:52.406762,16.90936690000001
END:VEVENT
END:VCALENDAR