BEGIN:VCALENDAR
VERSION:2.0
PRODID:-//wp-events-plugin.com//7.1.7//EN
BEGIN:VEVENT
UID:9566@powiat.poznan.pl
DTSTART:20260307T173000Z
DTEND:20260307T193000Z
DTSTAMP:20260122T102453Z
URL:https://powiat.poznan.pl/events/tribute-to-anna-jantar-w-dworze-skrzyn
 ki/
SUMMARY:"Tribute to Anna Jantar" w Dworze Skrzynki
DESCRIPTION:Koncert "Tribute to Anna Jantar" 7 marca 2026 roku o godz. 18:3
 0 w Dworze Skrzynki. „Tyle słońca w całym mieście”\, „Staruszek 
 świat”\, „Radość najpiękniejszych lat” – piosenki przez jednyc
 h uwielbiane\, wspominane lub odkrywane na nowo na fali nostalgii za tą p
 okręconą PRL-owską rzeczywistością babć i dziadków. A w tym wszystk
 im Ona – Anna Jantar – z promiennym uśmiechem\, wielkimi sarnimi ocza
 mi i radością emanującą z każdej wyśpiewanej nuty. Zachwycałaby pew
 nie do dziś\, gdyby nie tragiczny lot\, który dramatycznie przerwał jej
  karierę. Pozostały wspomnienia i piosenki\, po które sięgają artyśc
 i z pokolenia jej wnuków. Czy z powodzeniem? Na pewno znakomicie robi to 
 muzyczne małżeństwo Karoliny i Filipa Chojnackich\, na koncert których
  zapraszamy z okazji Dnia Kobiet. Zaśpiewa Karolina Kram-Chojnacka a na f
 ortepianie zagra Filip Chojnacki.\n\nBilety do kupienia on-line.\n\nZapra
 szamy też do skorzystania z naszej oferty gastronomicznej.\n\nPartnerem w
 ydarzeń artystycznych w Dworze Skrzynki jest PKS Poznań S.A.\n\n
ATTACH;FMTTYPE=image/jpeg:https://powiat.poznan.pl/wp-content/uploads/2026
 /01/s1.jpg
CATEGORIES:Koncert,Kultura i sztuka,Rozrywka,Społeczne
LOCATION:Dwór Skrzynki\, Plac Parkowy 1\, Skrzynki\, gm. Stęszew\, 62-060
 \, Poland
GEO:52.342096;16.606405
X-APPLE-STRUCTURED-LOCATION;VALUE=URI;X-ADDRESS=Plac Parkowy 1\, Skrzynki\,
  gm. Stęszew\, 62-060\, Poland;X-APPLE-RADIUS=100;X-TITLE=Dwór Skrzynki:
 geo:52.342096,16.606405
END:VEVENT
END:VCALENDAR