BEGIN:VCALENDAR
VERSION:2.0
PRODID:-//wp-events-plugin.com//7.1.7//EN
BEGIN:VEVENT
UID:9170@powiat.poznan.pl
DTSTART:20250628T080000Z
DTEND:20250628T150000Z
DTSTAMP:20250623T091720Z
URL:https://powiat.poznan.pl/events/turniej-charytatywny-3/
SUMMARY:Turniej charytatywny
DESCRIPTION:Turniej Charytatywny APR Rokietnica Cup\n\n
ATTACH;FMTTYPE=image/jpeg:https://powiat.poznan.pl/wp-content/uploads/2025
 /06/rok2.jpg
CATEGORIES:Dla dzieci,Sport
LOCATION:Rokietnicki Ośrodek Sportu\, Szamotulska 29\,  Rokietnica\, Polan
 d
GEO:52.5124102;16.74293739999996
X-APPLE-STRUCTURED-LOCATION;VALUE=URI;X-ADDRESS=Szamotulska 29\,  Rokietnic
 a\, Poland;X-APPLE-RADIUS=100;X-TITLE=Rokietnicki Ośrodek Sportu:geo:52.5
 124102,16.74293739999996
END:VEVENT
END:VCALENDAR