BEGIN:VCALENDAR
VERSION:2.0
PRODID:-//wp-events-plugin.com//7.1.7//EN
BEGIN:VEVENT
UID:9409@powiat.poznan.pl
DTSTART:20251002T230000Z
DTEND:20251004T230000Z
DTSTAMP:20251002T081425Z
URL:https://powiat.poznan.pl/events/turniej-pilki-recznej-pantera-cup/
SUMMARY:Turniej piłki ręcznej Pantera Cup
DESCRIPTION:\n\n\n\n\nW dniach 3–5 października 2025 roku w Dopiewie odb
 ędzie się Ogólnopolski Turniej Piłki Ręcznej Dziewcząt „Pantera Cu
 p” dla rocznika 2011 i młodszych. Rozgrywki będą miały miejsce w hal
 i GOSiR przy ul. Polnej 1A oraz w Szkole Podstawowej w Dopiewie przy ul. 
 Łąkowej 2A.\n\nTegoroczna edycja turnieju odbędzie się pod hasłem „
 Pantera Cup z Sercem – Gramy\, żeby pomagać!”. Podczas wydarzenia pr
 owadzona będzie zbiórka na leczenie mamy jednej z zawodniczek\, która z
 maga się z chorobą nowotworową. W ramach akcji zaplanowano również ki
 ermasz słodkości\, który odbędzie się w hali GOSiR w dniach 4–5 pa
 ździernika w godzinach 8:00–20:00. Dochód z jego sprzedaży zostanie p
 rzeznaczony na wsparcie leczenia.\n\nW turnieju wezmą udział drużyny z 
 całej Polski\, m.in.: UKS Pantery Dopiewo\, MKS PR Gniezno\, UKS Olimpijc
 zyk Budzyń\, UKS Bukowia Buk\, UKS Nowa Karczma\, UKS Dziewiątka Legnica
 \, MKS Kusy Szczecin\, MTS Żory\, APR Gladiator Oborniki\, MKS Zagłębie
  Lubin\, MTS Kwidzyn oraz MKS Pyrki Poznań.\n\nZapraszamy do kibicowania!
 \n\n\n\n&nbsp\;\n\n\n\n\n
ATTACH;FMTTYPE=image/jpeg:https://powiat.poznan.pl/wp-content/uploads/2025
 /10/dop1.webp
CATEGORIES:Dla dzieci,Społeczne,Sport
LOCATION:Hala GOSiR Dopiewo\, ul. Polna\, Dopiewo\, Poland
GEO:52.354751;16.67085080000004
X-APPLE-STRUCTURED-LOCATION;VALUE=URI;X-ADDRESS=ul. Polna\, Dopiewo\, Polan
 d;X-APPLE-RADIUS=100;X-TITLE=Hala GOSiR Dopiewo:geo:52.354751,16.670850800
 00004
END:VEVENT
END:VCALENDAR