BEGIN:VCALENDAR
VERSION:2.0
PRODID:-//wp-events-plugin.com//7.1.7//EN
BEGIN:VEVENT
UID:9187@powiat.poznan.pl
DTSTART:20250628T080000Z
DTEND:20250628T140000Z
DTSTAMP:20250623T101859Z
URL:https://powiat.poznan.pl/events/turniej-siatkowki-plazowej-5/
SUMMARY:Turniej siatkówki plażowej
DESCRIPTION:Turniej siatkówki plażowej w Niepruszewie.\n\n
ATTACH;FMTTYPE=image/jpeg:https://powiat.poznan.pl/wp-content/uploads/2025
 /06/b1.jpg
CATEGORIES:Sport,Turystyka i rekreacja
LOCATION:Niepruszewo plaża\, Niepruszewo plaża (beach)\, 64-320 Nieprusze
 wo\, Poland
GEO:52.386499;16.593745
X-APPLE-STRUCTURED-LOCATION;VALUE=URI;X-ADDRESS=Niepruszewo plaża (beach)\
 , 64-320 Niepruszewo\, Poland;X-APPLE-RADIUS=100;X-TITLE=Niepruszewo plaż
 a:geo:52.386499,16.593745
END:VEVENT
END:VCALENDAR