BEGIN:VCALENDAR
VERSION:2.0
PRODID:-//wp-events-plugin.com//7.1.7//EN
BEGIN:VEVENT
UID:8497@powiat.poznan.pl
DTSTART:20241031T160000Z
DTEND:20241031T180000Z
DTSTAMP:20241009T101830Z
URL:https://powiat.poznan.pl/events/upiorny-bal-w-kostrzynie/
SUMMARY:Upiorny Bal w Kostrzynie
DESCRIPTION:Upiorny Bal\nWięcej informacji na kostrzyn-mgok.pl\n\n
ATTACH;FMTTYPE=image/jpeg:https://powiat.poznan.pl/wp-content/uploads/2024
 /10/upiorny-bal-w-kostrzynie.jpg
CATEGORIES:Dla dzieci
LOCATION:Miejsko-Gminny Ośrodek Kultury w Kostrzynie\, Miejsko-Gminny Ośr
 odek Kultury w Kostrzynie\, Kostrzyn\, Poland
GEO:52.3977079;17.221118100000012
X-APPLE-STRUCTURED-LOCATION;VALUE=URI;X-ADDRESS=Miejsko-Gminny Ośrodek Kul
 tury w Kostrzynie\, Kostrzyn\, Poland;X-APPLE-RADIUS=100;X-TITLE=Miejsko-G
 minny Ośrodek Kultury w Kostrzynie:geo:52.3977079,17.221118100000012
END:VEVENT
END:VCALENDAR