BEGIN:VCALENDAR
VERSION:2.0
PRODID:-//wp-events-plugin.com//7.1.7//EN
BEGIN:VEVENT
UID:8399@powiat.poznan.pl
DTSTART:20241003T100000Z
DTEND:20241003T100000Z
DTSTAMP:20240923T090404Z
URL:https://powiat.poznan.pl/events/uroczysta-msza-w-korniku-oraz-odslonie
 cie-pomnika-wladyslawa-hr-zamoyskiego/
SUMMARY:Uroczysta Msza w Kórniku oraz odsłonięcie pomnika Władysława h
 r. Zamoyskiego
DESCRIPTION:Uroczysta Msza Św. w Kolegiacie Kórnickiej oraz odsłonięcie
  pomnika Władysława hr. Zamoyskiego w 100 rocznicę śmierci Patrona Rok
 u 2024\nMiejsce: Kolegiata Kórnicka\n\nGodzina: 11.00\n\n&nbsp\;\n\nWydar
 zenie wsparte przez powiat poznański
ATTACH;FMTTYPE=image/jpeg:https://powiat.poznan.pl/wp-content/uploads/2021
 /10/event-kalendarz.png
CATEGORIES:Kultura i sztuka
LOCATION:Kolegiata w Kórniku\, ul. Średzka \, Kórnik\, Poland
GEO:52.246665;17.099355
X-APPLE-STRUCTURED-LOCATION;VALUE=URI;X-ADDRESS=ul. Średzka \, Kórnik\, P
 oland;X-APPLE-RADIUS=100;X-TITLE=Kolegiata w Kórniku:geo:52.246665,17.099
 355
END:VEVENT
END:VCALENDAR