BEGIN:VCALENDAR
VERSION:2.0
PRODID:-//wp-events-plugin.com//7.1.7//EN
BEGIN:VEVENT
UID:8967@powiat.poznan.pl
DTSTART:20250510T140000Z
DTEND:20250510T160000Z
DTSTAMP:20250506T092510Z
URL:https://powiat.poznan.pl/events/vii-urodziny-palacu-jankowice/
SUMMARY:VII urodziny Pałacu Jankowice
DESCRIPTION:Dla młodszych mieszkańców Gminy Tarnowo Podgórne 10. maja o
  godz. 15.00 zaplanowano plenerowy spektakl „MISJA ŚWIAT – DYNKS I WI
 HAJSTER NA TROPIE” zaprzyjaźnionego Teatru Animacji w Poznaniu.\n\nTytu
 łowi Dora Dynks i Waldemar Wihajster otrzymują informację o serii bezcz
 elnych kradzieży. Tej samej nocy giną skrzydła Pegaza z dachu Opery Poz
 nańskiej\, jeden sympatyczny lew podtrzymujący fontannę na Dziedzińcu 
 Różanym Zamku oraz fragment słynnego neonu Poznańskich Słowików. Nie
  namyślając się długo\, detektywi udają się w szalony pościg za taj
 emniczym złodziejem. Tym razem tropy zaprowadzą ich znacznie dalej niż 
 przy poprzedniej misji – odwiedzą bowiem Grecję\, Hiszpanię\, polecą
  nawet do Stanów Zjednoczonych\, a także… w kosmos! Czego bowiem nie r
 obi się dla ukochanego Poznania?\n\n„Misja Świat” zaprasza małych i
  dużych do wspólnej przygody pełnej nagłych zwrotów akcji\, śmiechu 
 i krajoznawczych ciekawostek. Odkryjmy razem\, kto stoi za serią tajemnic
 zych kradzieży\, co ma wspólnego Opera Poznańska ze starożytną Grecj
 ą\, a także jakie jest drugie\, mniej znane oblicze swojskiej\, lokalnej
  pyry! Na to plenerowe\, muzyczno-teatralne wydarzenie zapraszamy już ter
 az!\n\nNie obowiązują zapisy.\n\n
ATTACH;FMTTYPE=image/jpeg:https://powiat.poznan.pl/wp-content/uploads/2025
 /05/grafika-do-promocji5-2.png
CATEGORIES:Dla dzieci
LOCATION:Pałac Jankowice\, ul. Ogrodowa 2\, Jankowice\, 62-080\, Poland
GEO:52.438941;16.617316999999957
X-APPLE-STRUCTURED-LOCATION;VALUE=URI;X-ADDRESS=ul. Ogrodowa 2\, Jankowice\
 , 62-080\, Poland;X-APPLE-RADIUS=100;X-TITLE=Pałac Jankowice:geo:52.43894
 1,16.617316999999957
END:VEVENT
END:VCALENDAR