BEGIN:VCALENDAR
VERSION:2.0
PRODID:-//wp-events-plugin.com//7.1.7//EN
BEGIN:VEVENT
UID:8098@powiat.poznan.pl
DTSTART:20240708T070000Z
DTEND:20240712T150000Z
DTSTAMP:20240627T094905Z
URL:https://powiat.poznan.pl/events/wakacyjne-poranki-w-swarzedzu-3/
SUMMARY:Wakacyjne Poranki w Swarzędzu
DESCRIPTION:Wakacyjne Poranki\nWięcej informacji na swarzedz.pl\n\n
ATTACH;FMTTYPE=image/jpeg:https://powiat.poznan.pl/wp-content/uploads/2024
 /06/wakacyjne-poranki_swarzedz.jpg
CATEGORIES:Kultura i sztuka
LOCATION:Ceramika Wanat\, Rynek 21\, 62-020 Swarzędz\, Poland
GEO:52.410441;17.076482
X-APPLE-STRUCTURED-LOCATION;VALUE=URI;X-ADDRESS=Rynek 21\, 62-020 Swarzędz
 \, Poland;X-APPLE-RADIUS=100;X-TITLE=Ceramika Wanat:geo:52.410441,17.07648
 2
END:VEVENT
END:VCALENDAR