BEGIN:VCALENDAR
VERSION:2.0
PRODID:-//wp-events-plugin.com//7.1.7//EN
BEGIN:VEVENT
UID:9206@powiat.poznan.pl
DTSTART:20250822T230000Z
DTEND:20250822T230000Z
DTSTAMP:20250623T114355Z
URL:https://powiat.poznan.pl/events/wakacyjne-splywy-3/
SUMMARY:Wakacyjne spływy
DESCRIPTION:Ruszają zapisy na Wakacyjne Spływy po Jeziorze Chomęcickim!
 \n\nW programie spływów uwzględniony jest krótki instruktaż wiosłowa
 nia i zasad BHP. Spływ poprowadzi pilot\, który będzie poruszał się n
 a kajaku jako pierwsza jednostka na wodzie. Na spływach po jeziorze Chom
 ęcickim mamy do dyspozycji 15 kajaków na każdy spływ. Zbiórka na pl
 aży w Chomęcicach o godz. 9.00. Wydarzenie potrwa ok 2 godzin\, a  ni
 ski stopień trudności spływu umożliwia uczestnictwo całych rodzin.\n\
 nKoszt spływu: 30 zł za osobę. O uczestnictwie decyduje kolejność zg
 łoszeń!\n\nRegulamin_Spływu_Kajakowego_Chomęcice_2025\n\n----------ZAP
 ISY NA SPŁYWY------------\n\n
ATTACH;FMTTYPE=image/jpeg:https://powiat.poznan.pl/wp-content/uploads/2025
 /06/k5.jpg
CATEGORIES:Rozrywka,Społeczne,Turystyka i rekreacja
LOCATION:Plaża w Chomęcicach\, ul. Nad Jeziorem\, Chomęcice\, Poland
GEO:52.3183604;16.74078320000001
X-APPLE-STRUCTURED-LOCATION;VALUE=URI;X-ADDRESS=ul. Nad Jeziorem\, Chomęci
 ce\, Poland;X-APPLE-RADIUS=100;X-TITLE=Plaża w Chomęcicach:geo:52.318360
 4,16.74078320000001
END:VEVENT
END:VCALENDAR