BEGIN:VCALENDAR
VERSION:2.0
PRODID:-//wp-events-plugin.com//7.1.7//EN
BEGIN:VEVENT
UID:9614@powiat.poznan.pl
DTSTART:20260218T080000Z
DTEND:20260218T120000Z
DTSTAMP:20260204T113915Z
URL:https://powiat.poznan.pl/events/warsztaty-anima-phone-w-gminie-buk/
SUMMARY:Warsztaty anima phone w gminie Buk
DESCRIPTION:Kino Wielkopolanin zaprasza do zapisów na warsztaty filmu pokl
 atkowego.\n\n
ATTACH;FMTTYPE=image/jpeg:https://powiat.poznan.pl/wp-content/uploads/2026
 /02/b6.jpg
CATEGORIES:Dla dzieci,Edukacja,Rozrywka,Społeczne,Warsztaty
LOCATION:Kino Wielkopolanin w Buku\, plac Reszki 30\, Buk\, Poland
GEO:52.357459;16.519471899999985
X-APPLE-STRUCTURED-LOCATION;VALUE=URI;X-ADDRESS=plac Reszki 30\, Buk\, Pola
 nd;X-APPLE-RADIUS=100;X-TITLE=Kino Wielkopolanin w Buku:geo:52.357459,16.5
 19471899999985
END:VEVENT
END:VCALENDAR