BEGIN:VCALENDAR
VERSION:2.0
PRODID:-//wp-events-plugin.com//7.1.7//EN
BEGIN:VEVENT
UID:9042@powiat.poznan.pl
DTSTART:20250524T140000Z
DTEND:20250524T160000Z
DTSTAMP:20250522T071223Z
URL:https://powiat.poznan.pl/events/warsztaty-dla-dzieci-11/
SUMMARY:Warsztaty dla dzieci
DESCRIPTION:Warsztaty dla dzieci w wieku 7-12 lat.\n\nRezerwacja bezpłatny
 ch wejściówek pod numerem 61 10 10 400 od 12 maja 2025 (poniedziałek 
 – piątek w godzinach 8:00 – 20:00 | sobota – niedziela w godzinach 
 12:00 – 20:00). Procedura uczestnictwa w wydarzeniach oraz szczegółowe
  informacje dostępne na stronie: www.palacjankowice.pl\n\n\n\n&nbsp\;
ATTACH;FMTTYPE=image/jpeg:https://powiat.poznan.pl/wp-content/uploads/2025
 /05/tp1.png
CATEGORIES:Dla dzieci,Warsztaty
LOCATION:Pałac Jankowice\, ul. Ogrodowa 2\, Jankowice\, 62-080\, Poland
GEO:52.438941;16.617316999999957
X-APPLE-STRUCTURED-LOCATION;VALUE=URI;X-ADDRESS=ul. Ogrodowa 2\, Jankowice\
 , 62-080\, Poland;X-APPLE-RADIUS=100;X-TITLE=Pałac Jankowice:geo:52.43894
 1,16.617316999999957
END:VEVENT
END:VCALENDAR