BEGIN:VCALENDAR
VERSION:2.0
PRODID:-//wp-events-plugin.com//7.1.7//EN
BEGIN:VEVENT
UID:9689@powiat.poznan.pl
DTSTART:20260509T230000Z
DTEND:20260509T230000Z
DTSTAMP:20260423T094616Z
URL:https://powiat.poznan.pl/events/warsztaty-dla-dzieci-z-mapa-w-lesie/
SUMMARY:Warsztaty dla dzieci "Z mapą w lesie"
DESCRIPTION:10 maja zapraszamy na darmowe warsztaty dla dzieci z czytania m
 apy i orientacji w terenie w Żarnowcu (gm. Dopiewo). Więcej informacji n
 a profilu FB organizatora: PocoLoco.\nProjekt finansowany ze środków pow
 iatu poznańskiego.\n\n
ATTACH;FMTTYPE=image/jpeg:https://powiat.poznan.pl/wp-content/uploads/2026
 /04/zrzut-ekranu-2026-04-23-114142.png
CATEGORIES:Dla dzieci,Edukacja,Rozrywka,Społeczne,Turystyka i
 rekreacja,Warsztaty
LOCATION:Wiata biesiadna w Żarnowcu\, Żarnowiec 1\, Dopiewo\, 62-070\, Po
 land
GEO:52.333104;16.62888499999997
X-APPLE-STRUCTURED-LOCATION;VALUE=URI;X-ADDRESS=Żarnowiec 1\, Dopiewo\, 62
 -070\, Poland;X-APPLE-RADIUS=100;X-TITLE=Wiata biesiadna w Żarnowcu:geo:5
 2.333104,16.62888499999997
END:VEVENT
END:VCALENDAR