BEGIN:VCALENDAR
VERSION:2.0
PRODID:-//wp-events-plugin.com//7.1.7//EN
BEGIN:VEVENT
UID:9242@powiat.poznan.pl
DTSTART;VALUE=DATE:20250722
DTEND;VALUE=DATE:20250801
DTSTAMP:20250710T084112Z
URL:https://powiat.poznan.pl/events/warsztaty-dla-mlodziezy/
SUMMARY:Warsztaty dla młodzieży
DESCRIPTION:Zapraszamy do udziału w projekcie pt. “Młodzi Mistrzowie In
 spirują się Wyczółkowskim. Interdyscyplinarne Warsztaty Artystyczne i 
 Historyczne w Skrzynkach”. W dniach 22-31 lipca w Dworze Skrzynki (gm. S
 tęszew\, powiat poznański) odbędą się warsztaty artystyczne dla młod
 zieży w wieku 15-18 lat\, które organizowane są w ramach pleneru sztuki
  „Za oknami Skrzynek. Dusze drzew” i poprowadzą je zaproszeni artyśc
 i biorący udział w plenerze (Maggie Szuszkiewicz (Niemcy)\, Monika Śló
 sarczyk\, Maria Dziopak\, Sylwester Chłodziński\, Leszek Zegalski\, Robe
 rt Heczko\, Artur Gepas\, Jan Żyrek\, Waldemar Pawlikowski i Anna Czyży
 kiewicz (komisarz pleneru) oraz historycy sztuki (m. in. prof. Małgorzata
  Hendrykowska\, prof. Marek Hendrykowski\; Małgorzata Duks\, Józef Duks\
 ; dr Karolina Echaust)\n\nSerdecznie zapraszamy utalentowaną młodzież 
 – uczniów szkół plastycznych\, laureatów konkursów artystycznych do
  udziału w warsztatach. W warsztatów artystycznych wchodzą:\n\n 	Plener
 : pod okiem mistrzów: zaproszeni malarze biorący udział w głównym ple
 nerze poprowadzą sesje malarskie ( w tym w plenerze)\, inspirując się o
 taczającą przyrodą Skrzynek\, podobnie jak Wyczółkowski. Młodzież b
 ędzie miała okazję pracować obok doświadczonych artystów\, obserwowa
 ć ich techniki i otrzymywać indywidualne konsultacje.\n 	Techniki malars
 kie: skupienie się na technikach charakterystycznych dla Wyczółkowskieg
 o. Prowadzący artyści pokażą\, jak operować światłem\, kolorem i fa
 kturą\, aby oddać piękno natury.\n 	Rzeźba: rzeźbiarz uczestniczący 
 w plenerze poprowadzi zajęcia z rzeźby z wykorzystaniem różnych materi
 ałów\, zachęcając młodzież do poszukiwania form inspirowanych natur
 ą i symboliką drzew\, obecną w twórczości Wyczółkowskiego.\n 	Sesje
  historyczno-artystyczne – wykłady i prezentacje historyków sztuki\, n
 a których eksperci przybliżą życie i twórczość Leona Wyczółkowski
 ego\, ze szczególnym uwzględnieniem jego relacji z naturą\, motywów pa
 triotycznych w jego sztuce oraz jego nowatorskich podejść do malarstwa. 
 Analiza i interpretacja dzieł Wyczółkowskiego\, ze szczegółowym omów
 ieniem wybranych obrazów i grafik\, zwrócenie uwagi na kompozycję\, kol
 orystykę\, symbolikę i kontekst historyczny.\n 	Wyjazdy:\n\n 	do Goście
 radza gdzie tworzył i mieszkał Wyczółkowski w ostatnich latach swojego
  życia.\n 	do Muzeum Regionalnego w Bydgoszczy – zwiedzanie ekspozycji 
 stałej dzieł Wyczółkowskiego\n 	do Muzeum Archidiecezjalnego w Poznani
 u – zwiedzanie i zapoznanie się z eksponowanymi tam dziełami Wyczółk
 owskiego\n 	do Rogalina – oglądanie dębów\, które uwiecznił w swoic
 h pracach Wyczółkowski\n\n\n\nPonadto podczas spotkań uczestnicy warszt
 atów będą mieli okazję:\n\n 	praktycznie zgłębić twórczość Leona
  Wyczółkowskiego\,\n 	odkryć jego związki z naturą i lokalnym patriot
 yzmem\,\n 	stworzyć własne prace inspirowane stylem i tematyką tego wyb
 itnego artysty\n\nPodsumowaniem warsztatów będzie wystawa prac stworzony
 ch przez młodzież podczas zajęć\, zorganizowana w Dworze Skrzynki w dn
 iu 30 lipca 2025 r. Będzie to okazja do zaproszenia lokalnej społecznoś
 ci\, przyjaciół\, rodzin i uczestników głównego pleneru na wernisaż 
 i prezentację prac z omówieniem inspiracji oraz procesu twórczego przez
  młodych artystów. To niepowtarzalna okazja do rozwoju artystycznego\, w
 ymiany doświadczeń oraz twórczej pracy w inspirującym otoczeniu.\n\n
ATTACH;FMTTYPE=image/jpeg:https://powiat.poznan.pl/wp-content/uploads/2025
 /07/warsztaty-dla-mlodziezy-kwadrat-4-1.jpg
CATEGORIES:Kultura i sztuka,Warsztaty
LOCATION:Dwór w Skrzynkach\, Plac Parkowy 1\, Skrzynki\, Poland
GEO:52.342096;16.606405
X-APPLE-STRUCTURED-LOCATION;VALUE=URI;X-ADDRESS=Plac Parkowy 1\, Skrzynki\,
  Poland;X-APPLE-RADIUS=100;X-TITLE=Dwór w Skrzynkach:geo:52.342096,16.606
 405
END:VEVENT
END:VCALENDAR