BEGIN:VCALENDAR
VERSION:2.0
PRODID:-//wp-events-plugin.com//7.1.7//EN
BEGIN:VEVENT
UID:9642@powiat.poznan.pl
DTSTART:20260314T090000Z
DTEND:20260314T120000Z
DTSTAMP:20260302T091815Z
URL:https://powiat.poznan.pl/events/warsztaty-flowform-w-dworze-skrzynki/
SUMMARY:Warsztaty FLOW&FORM w Dworze Skrzynki
DESCRIPTION:W Dworze Skrzynki rozpoczyna się nowy cykl warsztatów w stylu
  FLOW &amp\; FORM. Zapraszamy na pierwsze spotkanie z Miłosławą Kaczano
 wską w sobotę\, 14 marca 2026 r. o godz. 10.00.\n\nW programie: Odpręż
 ająca medytacja pt. „Topnienie lodowca”\, ekspresyjne uwalnianie emoc
 ji oraz radosna zabawa kolorem i ruchem\, które przynoszą ulgę i lekko
 ść.\nCel: Odzyskanie kontaktu z pełnią radości\, uwolnienie pełnego 
 wachlarzu pozytywnych emocji i przywrócenie harmonijnego połączenia ze 
 Sobą.\nRozpuszczanie\, topnienie. Uwolnij emocjonalnie ciężkie zimowe z
 astoje - medytacja.\nNa warsztaty:\n- obowiązują zapisy: warsztaty@insty
 tutskrzynki.pl\, w mailu prosimy wskazać termin warsztatów\; liczba miej
 sc ograniczona\n- warsztaty głownie dla wszystkich kobiet w wieku od lat 
 12 do 112\, ale panowie również mile widziani.\n- płatność 50 złotyc
 h za osobę.\n\nFLOW &amp\; FORM to zaproszenie do fascynującej podróży
  w głąb siebie\, gdzie sztuka spotyka się z uśmiechem\, a nowoczesne p
 odejście i wiedza o układzie nerwowym pomaga odnaleźć prawdziwy spokó
 j. To autorski program spotkań wewnętrznej Mocy i Radości stworzony po 
 to\, byś mogła/mógł w lekkości i bezpiecznej atmosferze uwolnić nagr
 omadzone napięcia i zamienić je w swoje osobiste zasoby.\nDzięki unikal
 nemu połączeniu medytacji w oddechu\, intuicyjnej pracy plastycznej (Flo
 w) oraz pełnej harmonii pracy z neurolinią (Form)\, przejdziemy wspóln
 ą drogę od oczyszczenia głowy po radosne i świadome projektowanie Twoj
 ego Dobrostanu.\nO technice – czym radosna twórczość:\nPodczas warszt
 atów uczestnicy bawią się materią\, energią\, kolorem i formą! Wykor
 zystują techniki medytacji i oddechu\, aby uwolnić z ciała niepotrzebne
  emocje\, a następnie przetransformować je na nowe odczucia. To narzędz
 ia\, które pozwalają wyciszyć te zbyt „głośne” myśli i skontakto
 wać się z Twoją intuicją i wewnętrznym „JA”. Całość działań 
 wprowadzi Cię w stan relaksu (Alpha/Theta)\, a paleta barw\, która rozś
 wietli Twoje dzieło - nastroi Twój układ nerwowy na pozytywne zmiany.\n
 \nPrzygotował: Instytut Skrzynki\n\n
ATTACH;FMTTYPE=image/jpeg:https://powiat.poznan.pl/wp-content/uploads/2026
 /03/14-03-2025-warsztaty-flow-form-fb-i-strona.jpg
CATEGORIES:Edukacja,Społeczne,Warsztaty
LOCATION:Dwór Skrzynki\, Plac Parkowy 1\, Skrzynki\, gm. Stęszew\, 62-060
 \, Poland
GEO:52.342096;16.606405
X-APPLE-STRUCTURED-LOCATION;VALUE=URI;X-ADDRESS=Plac Parkowy 1\, Skrzynki\,
  gm. Stęszew\, 62-060\, Poland;X-APPLE-RADIUS=100;X-TITLE=Dwór Skrzynki:
 geo:52.342096,16.606405
END:VEVENT
END:VCALENDAR