BEGIN:VCALENDAR
VERSION:2.0
PRODID:-//wp-events-plugin.com//7.1.7//EN
BEGIN:VEVENT
UID:9623@powiat.poznan.pl
DTSTART:20260220T080000Z
DTEND:20260220T120000Z
DTSTAMP:20260204T123521Z
URL:https://powiat.poznan.pl/events/warsztaty-kreatywne-ferie-w-puszczykow
 ie/
SUMMARY:Warsztaty "Kreatywne Ferie" w Puszczykowie
DESCRIPTION:Czas ferii zimowych to doskonała okazja\, by zwolnić tempo i 
 dać dzieciom przestrzeń na swobodną\, twórczą ekspresję. W dniach 17
  i 20 lutego w Willi Mimoza w Puszczykowie odbędzie się dwudniowy cykl w
 arsztatów artystycznych „Kreatywne Ferie”\, skierowany do dzieci w wi
 eku od 7 do 13 lat.\nPodczas spotkań uczestnicy spróbują czterech róż
 nych technik twórczych: malowania kamieni (StoneART)\, pracy z zakręcony
 mi nitkami (StringART)\, warsztatów przestrzennych poza formą (Picasserr
 ia) oraz tworzenia błyszczącej mozaiki „Fragmenty Świata”. Zajęcia
  poprowadzą dwie instruktorki\, a każde spotkanie będzie okazją do eks
 perymentowania z kolorami\, fakturami i kształtami. Warsztaty prowadzone 
 są w atmosferze swobody i akceptacji – bez oceniania efektów końcowyc
 h. Najważniejszy jest proces twórczy\, radość tworzenia i wzmacnianie 
 poczucia sprawczości u dzieci. Udział możliwy jest zarówno w pojedyncz
 ych warsztatach\, jak i w całym cyklu.\nLiczba miejsc jest ograniczona.\n
 Miejsce: Willa Mimoza\, Puszczykowo\nTerminy: 17 i 20 lutego 2026\nGodzina
 : 9.00 - 13.30 (w zależności od wybranego wariantu)\n\nZapisy\ntelefon: 
 453 440 883\ne-mail: zapisy@tusiedziejadobrerzeczy.pl\n\nWarianty wyboru w
 arsztatów:\n75 zł - 1 warsztat\n130 zł - 2 warsztaty w 1 dniu\n140 zł 
 - 2 warsztaty w 2 różne dni\n240 zł - całość: 4 warsztaty\n\n
ATTACH;FMTTYPE=image/jpeg:https://powiat.poznan.pl/wp-content/uploads/2026
 /02/p7.jpg
CATEGORIES:Dla dzieci,Edukacja,Rozrywka,Społeczne,Warsztaty
LOCATION:Willa Mimoza\, ul. Poznańska 26\, Puszczykowo\, 62-040\, Poland
GEO:52.2930757;16.861534900000038
X-APPLE-STRUCTURED-LOCATION;VALUE=URI;X-ADDRESS=ul. Poznańska 26\, Puszczy
 kowo\, 62-040\, Poland;X-APPLE-RADIUS=100;X-TITLE=Willa Mimoza:geo:52.2930
 757,16.861534900000038
END:VEVENT
END:VCALENDAR