BEGIN:VCALENDAR
VERSION:2.0
PRODID:-//wp-events-plugin.com//7.1.7//EN
BEGIN:VEVENT
UID:8918@powiat.poznan.pl
DTSTART:20250415T090000Z
DTEND:20250415T130000Z
DTSTAMP:20250327T130741Z
URL:https://powiat.poznan.pl/events/warsztaty-kulinarne-14/
SUMMARY:Warsztaty kulinarne
DESCRIPTION:Warsztaty kulinarne\nZapraszamy na warsztaty kulinarne osoby z 
 obszarów wiejskich\, które odbędą się 15 kwietnia w Dworze Skrzynki w
  gminie Stęszew\, w godz. 10.00-14.00. Uczestnicy warsztatów rozszerzą 
 swoją wiedzę i umiejętności w zakresie sposobów przyrządzania kiełb
 asy wielkopolskiej białej parzonej oraz kiełbasy domowej pasztetowej. Wa
 rto przypomnieć\, że w/w kiełbasa biała jest wpisana na ministerialną
  listę produktów tradycyjnych dla województwa wielkopolskiego. Prowadz
 ącymi będą: Przemysław Tecław – kierownik Muzeum Gospodarki Mięsne
 j w Sielinku (Muzeum Narodowe Rolnictwa i Przemysłu Rolno-Spożywczego w 
 Szreniawie) oraz Zbigniew Kmieć – trener kulinarny\, Główny Ekspert Z
 PP ds. rolnictwa i żywności.\n\nOrganizatorzy zapewniają niezbędne pro
 dukty do przeprowadzenia warsztatów\, a także posiłek i napoje dla ucze
 stników. Udział w warsztatach jest bezpłatny. Obowiązują zapisy – z
 głoszenia przyjmowane są do 7 kwietnia włącznie\, decyduje kolejność
  zgłoszeń\, niemniej przewidziano pierwszeństwo dla osób\, które będ
 ą brały udział po raz pierwszy. W wydarzeniu mogą uczestniczyć pełno
 letnie osoby z terenów wiejskich w Wielkopolsce\, w tym członkowie kół
  gospodyń wiejskich (maksymalnie dwie osoby z danego koła na jednym wars
 ztacie).\n\nOrganizatorami wydarzenia są Instytut Skrzynki – Instytut D
 okumentacji\, Rozwoju i Promocji Dziedzictwa Kulturowego i Kulinarnego Pow
 iatu Poznańskiego oraz Krajowy Ośrodek Wsparcia Rolnictwa (KOWR) – Odd
 ział Terenowy w Poznaniu. Aby zgłosić swój udział należy przesłać 
 email na adres: kontakt@instytutskrzynki.pl zawierający: imię i nazwisko
  uczestnika\, nazwę miejscowości zamieszkania (wsi)\, nazwę KGW (jeśli
  dotyczy) oraz telefon kontaktowy. Osoby\, które zgłoszą się do udzia
 łu zostaną najpóźniej do 9 kwietnia poinformowane e-mailem zwrotnym o 
 zakwalifikowaniu na warsztaty. Serdecznie zapraszamy!\n\nPrzygotował: Ins
 tytut Skrzynki\n\n\n\n&nbsp\;
ATTACH;FMTTYPE=image/jpeg:https://powiat.poznan.pl/wp-content/uploads/2025
 /03/2025-wedliny-na-wielkanoc-kwadrat-dla-pp.jpg
CATEGORIES:Warsztaty
LOCATION:Dwór Skrzynki\, Plac Parkowy 1\, Skrzynki\, gm. Stęszew\, 62-060
 \, Poland
GEO:52.342096;16.606405
X-APPLE-STRUCTURED-LOCATION;VALUE=URI;X-ADDRESS=Plac Parkowy 1\, Skrzynki\,
  gm. Stęszew\, 62-060\, Poland;X-APPLE-RADIUS=100;X-TITLE=Dwór Skrzynki:
 geo:52.342096,16.606405
END:VEVENT
END:VCALENDAR