BEGIN:VCALENDAR
VERSION:2.0
PRODID:-//wp-events-plugin.com//7.1.7//EN
BEGIN:VEVENT
UID:9637@powiat.poznan.pl
DTSTART:20260310T090000Z
DTEND:20260310T130000Z
DTSTAMP:20260220T074103Z
URL:https://powiat.poznan.pl/events/warsztaty-kulinarne-w-dworze-skrzynki-
 4/
SUMMARY:Warsztaty kulinarne w Dworze Skrzynki
DESCRIPTION:Instytut Skrzynki oraz Krajowy Ośrodek Wsparcia Rolnictwa (Odd
 ział Terenowy w Poznaniu) serdecznie zapraszają osoby z obszarów wiejsk
 ich województwa wielkopolskiego na wyjątkowe warsztaty kulinarne\, któr
 e odbędą się 10 marca 2026 r. (wtorek) w godzinach 10.00 - 14.00 w malo
 wniczym Dworze Skrzynki (pl. Parkowy 1\, 62-060 Skrzynki\, gm. Stęszew\, 
 powiat poznański).\n\nPodczas spotkania uczestnicy poszerzą swoją wiedz
 ę oraz praktyczne umiejętności w zakresie przygotowywania kiełbasy wie
 lkopolskiej białej parzonej oraz bambrzoka w dwóch odsłonach.\n\nWarto 
 podkreślić\, że oba wyroby znajdują się na ministerialnej Liście Pro
 duktów Tradycyjnych województwa wielkopolskiego\, stanowiąc ważny elem
 ent regionalnego dziedzictwa kulinarnego. Warsztaty będą nie tylko okazj
 ą do nauki sprawdzonych receptur i technik\, ale również do wymiany do
 świadczeń oraz rozmów o pielęgnowaniu lokalnych tradycji. Zajęcia pop
 rowadzi uznany specjalista Przemysław Tecław – kierownik Muzeum Gospod
 arki Mięsnej w Sielinku (Muzeum Narodowe Rolnictwa i Przemysłu Rolno-Spo
 żywczego w Szreniawie). Organizatorzy zapewniają wszystkie niezbędne pr
 odukty i materiały do przeprowadzenia warsztatów\, a także poczęstunek
  i napoje dla uczestników.\n\nUdział w warsztatach jest bezpłatny. Licz
 ba miejsc ograniczona. Obowiązują wcześniejsze zapisy – zgłoszenia p
 rzyjmowane są do 3 marca 2026 r. włącznie. O zakwalifikowaniu decyduje 
 kolejność zgłoszeń. W wydarzeniu mogą uczestniczyć osoby pełnoletni
 e z terenów wiejskich województwa wielkopolskiego\, w tym członkowie k
 ół gospodyń wiejskich (maksymalnie 2 osoby z jednego KGW w jednym spotk
 aniu warsztatowym).\n\nOsoby zakwalifikowane zostaną poinformowane drogą
  mailową najpóźniej do 6 marca 2026 r.\n\nJak się zgłosić?\n\nAby wz
 iąć udział w warsztatach\, należy przesłać wiadomość e-mail na adr
 es:\nwarsztaty@instytutskrzynki.pl. \n\nW treści zgłoszenia prosimy poda
 ć:\n\n 	imię i nazwisko uczestnika\,\n 	kod pocztowy i nazwę miejscowo
 ści zamieszkania (wsi)\,\n 	nazwę KGW (jeśli dotyczy)\,\n 	numer telefo
 nu kontaktowego.\n\nSerdecznie zapraszamy do wspólnego gotowania i odkryw
 ania smaków wielkopolskiej tradycji!\n\nPartnerem tej edycji warsztatów 
 jest Muzeum Narodowe Rolnictwa i Przemysłu Rolno-Spożywczego w Szreniawi
 e.\n\nPrzygotował: Instytut Skrzynki\n\n\n\n&nbsp\;
ATTACH;FMTTYPE=image/jpeg:https://powiat.poznan.pl/wp-content/uploads/2026
 /02/warsztaty-10-03-2026-instagram.jpg
CATEGORIES:Edukacja,Społeczne,Warsztaty
LOCATION:Dwór Skrzynki\, Plac Parkowy 1\, Skrzynki\, gm. Stęszew\, 62-060
 \, Poland
GEO:52.342096;16.606405
X-APPLE-STRUCTURED-LOCATION;VALUE=URI;X-ADDRESS=Plac Parkowy 1\, Skrzynki\,
  gm. Stęszew\, 62-060\, Poland;X-APPLE-RADIUS=100;X-TITLE=Dwór Skrzynki:
 geo:52.342096,16.606405
END:VEVENT
END:VCALENDAR