BEGIN:VCALENDAR
VERSION:2.0
PRODID:-//wp-events-plugin.com//7.1.7//EN
BEGIN:VEVENT
UID:7753@powiat.poznan.pl
DTSTART:20240413T140000Z
DTEND:20240413T140000Z
DTSTAMP:20240329T123031Z
URL:https://powiat.poznan.pl/events/warsztaty-medytacji/
SUMMARY:Warsztaty medytacji
DESCRIPTION:Klucze do serca. Warsztaty medytacji.\nWięcej informacji na pa
 lacjankowice.pl\n\n
ATTACH;FMTTYPE=image/jpeg:https://powiat.poznan.pl/wp-content/uploads/2024
 /03/warsztaty-medytacji-palac-jankowice.jpg
CATEGORIES:Dla seniora,Zdrowie
LOCATION:Pałac Jankowice\, ul. Ogrodowa 2\, Jankowice\, 62-080\, Poland
GEO:52.438941;16.617316999999957
X-APPLE-STRUCTURED-LOCATION;VALUE=URI;X-ADDRESS=ul. Ogrodowa 2\, Jankowice\
 , 62-080\, Poland;X-APPLE-RADIUS=100;X-TITLE=Pałac Jankowice:geo:52.43894
 1,16.617316999999957
END:VEVENT
END:VCALENDAR