BEGIN:VCALENDAR
VERSION:2.0
PRODID:-//wp-events-plugin.com//7.1.7//EN
BEGIN:VEVENT
UID:9190@powiat.poznan.pl
DTSTART:20250628T130000Z
DTEND:20250628T170000Z
DTSTAMP:20250623T103317Z
URL:https://powiat.poznan.pl/events/warsztaty-na-skate-parku/
SUMMARY:Warsztaty na skate parku
DESCRIPTION:\n\n\n\nZapraszamy na wyjątkowe wydarzenie sportowe na Skate P
 arku w Dopiewie podczas Dni Dopiewa\, gdzie będą odbywały się zajęcia
  prowadzone przez instruktorów 28 czerwca 2025r. w godzinach 14:00-18:00.
  To doskonała okazja\, aby nauczyć się nowych trików na deskorolce i 
 hulajnodze\, poprawić swoje umiejętności i świetnie spędzić czas\n\n
 Każdy uczestnik otrzyma deskorolkę i hulajnogę\, kask do dyspozycji na
  czas zajęć\, a program został zaplanowany w sekwencjach 30-minutowych
  dla każdego z poziomów zaawansowania – od początkujących po bardzi
 ej doświadczonych.\n\nPlan zajęć:\n\n 	14:00 - 14:30 – Wprowadzenie
  do deskorolki: podstawowe techniki\, jak stać na desce\, utrzymanie rów
 nowagi\, podstawowe ślizgi.\n 	Podstawowe triki na deskorolce: nauka pros
 tych trików takich jak ollie\, manual\, kickflip.\n 	Ćwiczenia na rampie
 : jak prawidłowo korzystać z rampy\, doskonalenie trików w ruchu.\n 	Za
 awansowane techniki na rampie: jak wykonywać bardziej skomplikowane triki
 \, kombinacje oraz praca z dynamiką ruchu.\n 	Podstawy jazdy na hulajnodz
 e: technika\, balans i pierwsze triki.\n 	Hulajnoga w akcji: nauka skoków
 \, slides\, nauka przejść przez rampę.\n 	Triki na hulajnodze: szlifowa
 nie umiejętności w bardziej zaawansowanych trikach i kombinacjach.\n 	Po
 kaz umiejętności - instruktorów szkółki K-roll\n\nChcesz nauczyć si
 ę nowych trików\, poprawić swoje umiejętności lub po prostu spróbowa
 ć swoich sił na deskorolce lub hulajnodze? To wydarzenie jest dla Ciebie
 !\n\nProgram zajęć dostosowany do każdego poziomu zaawansowania – od
  podstaw po zaawansowane techniki.\n\nKażdy uczestnik otrzyma hulajnogę 
 i deskorolkę do dyspozycji na czas zajęć\n\nZajęcia prowadzi profesjo
 nalna szkółka deskorolkowa K-Roll!\n\nWstęp wolny za okazaniem oświad
 czenia rodzica/prawnego opiekuna.\nNie przegap tej szansy na spędzenie ak
 tywnego popołudnia na świeżym powietrzu!\n\n\n\n\n\n
ATTACH;FMTTYPE=image/jpeg:https://powiat.poznan.pl/wp-content/uploads/2025
 /06/d2.jpg
CATEGORIES:Dla dzieci,Rozrywka,Sport
LOCATION:Dopiewo\, Dopiewo\, Dopiewo\, Poland
GEO:52.3652665;16.702731900000003
X-APPLE-STRUCTURED-LOCATION;VALUE=URI;X-ADDRESS=Dopiewo\, Dopiewo\, Poland;
 X-APPLE-RADIUS=100;X-TITLE=Dopiewo:geo:52.3652665,16.702731900000003
END:VEVENT
END:VCALENDAR