BEGIN:VCALENDAR
VERSION:2.0
PRODID:-//wp-events-plugin.com//7.1.7//EN
BEGIN:VEVENT
UID:9144@powiat.poznan.pl
DTSTART:20250613T150000Z
DTEND:20250613T190000Z
DTSTAMP:20250606T124806Z
URL:https://powiat.poznan.pl/events/warsztaty-senioralne-5/
SUMMARY:Warsztaty senioralne
DESCRIPTION:„Uniwersytet Trzeciego Wieku Powiatu Poznańskiego” realizo
 wany jest przez Fundację Petra Senior ze środków powiatu poznańskiego.
 \n\n
ATTACH;FMTTYPE=image/jpeg:https://powiat.poznan.pl/wp-content/uploads/2025
 /06/st.png
CATEGORIES:Dla seniora,Warsztaty
LOCATION:Stęszew\, Stęszew\, Stęszew\, Poland
GEO:52.2727466;16.66168449999998
X-APPLE-STRUCTURED-LOCATION;VALUE=URI;X-ADDRESS=Stęszew\, Stęszew\, Polan
 d;X-APPLE-RADIUS=100;X-TITLE=Stęszew:geo:52.2727466,16.66168449999998
END:VEVENT
END:VCALENDAR