BEGIN:VCALENDAR
VERSION:2.0
PRODID:-//wp-events-plugin.com//7.1.7//EN
BEGIN:VEVENT
UID:9317@powiat.poznan.pl
DTSTART:20250827T160000Z
DTEND:20250827T190000Z
DTSTAMP:20250825T131048Z
URL:https://powiat.poznan.pl/events/warsztaty-w-swarzedzu/
SUMMARY:Warsztaty w Swarzędzu
DESCRIPTION:Grupa Pomocy Humanitarnej Polskiego Czerwonego Krzyża w Poznan
 iu serdecznie zaprasza mieszkańców do udziału w bezpłatnych\, trzygodz
 innych Rodzinnych Warsztatach Przetrwania\, organizowanych w ramach zadani
 a publicznego: „Wspieranie działań na rzecz integracji międzypokoleni
 owej mieszkańców powiatu poznańskiego.”\n\nKiedy? 27 sierpnia 2025 r.
 \, godz. 17:00-20:00\n\nGdzie? Biblioteka Publiczna\, os. Czwartaków 1\, 
 Swarzędz\n\nDla kogo? Dla osób indywidualnych zamieszkałych w powiecie 
 poznańskim.\n\nCo Cię czeka? Program warsztatów dotyczyć będzie: diag
 nozowania sytuacji kryzysowych\, zasad postępowania w przypadku ich zaist
 nienia\, ze szczególnym naciskiem na sposoby samo radzenia sobie w przypa
 dku zaistnienia zagrożenia.\nPrzedstawione zostanie przykładowe wyposaż
 enie plecaka ewakuacyjnego pozwalającego przetrwać sytuacje zagrożenia 
 i zminimalizować dyskomfort nimi spowodowany\, oraz możliwości wykorzys
 tania do tego celu przedmiotów codziennego użytku\, które pozwolą na b
 ezpieczne odnalezienie się w nietypowej sytuacji.\nWarsztaty będą takż
 e być okazją budowania więzi i współpracy w rodzinie oraz w większyc
 h grupach społecznych\, poprzez wspólne rozwiązywanie problemów i pode
 jmowanie decyzji. W ramach szkolenia uczestnicy otrzymają także praktycz
 ne pamiątki możliwe do wykorzystania np. w swoim plecaku ewakuacyjnym.\n
 \nTo nie tylko okazja\, by zdobyć wiedzę i umiejętności przydatne w kr
 yzysie\, ale też by wzmocnić więzi rodzinne i społeczne\, dobrze się 
 bawić i działać wspólnie!\n\nLiczba miejsc ograniczona – warsztaty o
 dbędą się w grupie 20 osobowej. Zgłoszenia przyjmujemy do 26 sierpnia 
 2025 r. lub do wyczerpania limitu miejsc. Decyduje kolejność zgłoszeń.
 \n\nOsoby zainteresowane udziałem prosimy o zgłoszenie drogą mailową n
 a adres: katalog@biblioteka.swarzedz.pl \, telefonicznie: 61 817 31 03 lub
  osobiście w wypożyczalni dla dorosłych na os. Czwartaków 1 w Swarzęd
 zu.\n\nOSOBY ZAKWALIFIKOWANE DO UDZIAŁU W SZKOLENIU ZOSTANĄ POINFORMOWAN
 E ZWROTNIE O PRZYJĘCIU ZGŁOSZENIA. ( mailem \, lub SMS-em).\n\n
ATTACH;FMTTYPE=image/jpeg:https://powiat.poznan.pl/wp-content/uploads/2025
 /08/x.png
CATEGORIES:Dla dzieci,Dla seniora,Edukacja,Warsztaty
LOCATION:Biblioteka Publiczna w Swarzędzu\, os. Czwartaków 1\, Swarzędz\
 , 62-020\, Poland
GEO:52.41566779999999;17.078867899999977
X-APPLE-STRUCTURED-LOCATION;VALUE=URI;X-ADDRESS=os. Czwartaków 1\, Swarzę
 dz\, 62-020\, Poland;X-APPLE-RADIUS=100;X-TITLE=Biblioteka Publiczna w Swa
 rzędzu:geo:52.41566779999999,17.078867899999977
END:VEVENT
END:VCALENDAR