BEGIN:VCALENDAR
VERSION:2.0
PRODID:-//wp-events-plugin.com//7.1.7//EN
BEGIN:VEVENT
UID:8440@powiat.poznan.pl
DTSTART:20241005T113000Z
DTEND:20241006T113000Z
DTSTAMP:20241003T062730Z
URL:https://powiat.poznan.pl/events/weekend-seniora-z-kultura-w-parku-dzie
 je/
SUMMARY:Weekend seniora z kulturą w Parku Dzieje
DESCRIPTION:Weekend seniora z kulturą\nWięcej informacji na murowana-gosl
 ina.pl\n\n
ATTACH;FMTTYPE=image/jpeg:https://powiat.poznan.pl/wp-content/uploads/2024
 /10/park-dzieje_-weekend-seniora-z-kultura-5-6-x-2024-r.jpg
CATEGORIES:Dla seniora
LOCATION:Park Dzieje w Murowanej Goślinie\, ul. Bracka 9\, Murowana Gośli
 na\, Poland
GEO:52.5615623;17.011948399999937
X-APPLE-STRUCTURED-LOCATION;VALUE=URI;X-ADDRESS=ul. Bracka 9\, Murowana Go
 ślina\, Poland;X-APPLE-RADIUS=100;X-TITLE=Park Dzieje w Murowanej Goślin
 ie:geo:52.5615623,17.011948399999937
END:VEVENT
END:VCALENDAR